BEGIN:VCALENDAR
VERSION:2.0
PRODID:-//Eastbourne NZ - ECPv6.15.20//NONSGML v1.0//EN
CALSCALE:GREGORIAN
METHOD:PUBLISH
X-ORIGINAL-URL:https://eastbourne.nz
X-WR-CALDESC:Events for Eastbourne NZ
REFRESH-INTERVAL;VALUE=DURATION:PT1H
X-Robots-Tag:noindex
X-PUBLISHED-TTL:PT1H
BEGIN:VTIMEZONE
TZID:Pacific/Auckland
BEGIN:STANDARD
TZOFFSETFROM:+1300
TZOFFSETTO:+1200
TZNAME:NZST
DTSTART:20210403T140000
END:STANDARD
BEGIN:DAYLIGHT
TZOFFSETFROM:+1200
TZOFFSETTO:+1300
TZNAME:NZDT
DTSTART:20210925T140000
END:DAYLIGHT
BEGIN:STANDARD
TZOFFSETFROM:+1300
TZOFFSETTO:+1200
TZNAME:NZST
DTSTART:20220402T140000
END:STANDARD
BEGIN:DAYLIGHT
TZOFFSETFROM:+1200
TZOFFSETTO:+1300
TZNAME:NZDT
DTSTART:20220924T140000
END:DAYLIGHT
BEGIN:STANDARD
TZOFFSETFROM:+1300
TZOFFSETTO:+1200
TZNAME:NZST
DTSTART:20230401T140000
END:STANDARD
BEGIN:DAYLIGHT
TZOFFSETFROM:+1200
TZOFFSETTO:+1300
TZNAME:NZDT
DTSTART:20230923T140000
END:DAYLIGHT
END:VTIMEZONE
BEGIN:VEVENT
DTSTART;TZID=Pacific/Auckland:20220929T140000
DTEND;TZID=Pacific/Auckland:20220929T150000
DTSTAMP:20260423T133555
CREATED:20220928T224057Z
LAST-MODIFIED:20220928T224057Z
UID:1367-1664460000-1664463600@eastbourne.nz
SUMMARY:Eastbourne Community Board Extraordinary Meeting - Williams Park Tennis Courts
DESCRIPTION:The Eastbourne Community Board has an extraordinary meeting on Thursday at 2pm by Zoom.\nThe reason for the meeting is to review the licence for Wellesley to continue to use the Williams Park tennis courts during school hours. The licence wasn’t ready in time for the last regular ECB meeting\, hence this additional meeting.\nThe agenda is here
URL:https://eastbourne.nz/event/eastbourne-community-board-extraordinary-meeting-williams-park-tennis-courts/
LOCATION:Online
END:VEVENT
END:VCALENDAR