BEGIN:VCALENDAR
VERSION:2.0
PRODID:-//Eastbourne NZ - ECPv6.15.20//NONSGML v1.0//EN
CALSCALE:GREGORIAN
METHOD:PUBLISH
X-ORIGINAL-URL:https://eastbourne.nz
X-WR-CALDESC:Events for Eastbourne NZ
REFRESH-INTERVAL;VALUE=DURATION:PT1H
X-Robots-Tag:noindex
X-PUBLISHED-TTL:PT1H
BEGIN:VTIMEZONE
TZID:Pacific/Auckland
BEGIN:STANDARD
TZOFFSETFROM:+1300
TZOFFSETTO:+1200
TZNAME:NZST
DTSTART:20210403T140000
END:STANDARD
BEGIN:DAYLIGHT
TZOFFSETFROM:+1200
TZOFFSETTO:+1300
TZNAME:NZDT
DTSTART:20210925T140000
END:DAYLIGHT
BEGIN:STANDARD
TZOFFSETFROM:+1300
TZOFFSETTO:+1200
TZNAME:NZST
DTSTART:20220402T140000
END:STANDARD
BEGIN:DAYLIGHT
TZOFFSETFROM:+1200
TZOFFSETTO:+1300
TZNAME:NZDT
DTSTART:20220924T140000
END:DAYLIGHT
BEGIN:STANDARD
TZOFFSETFROM:+1300
TZOFFSETTO:+1200
TZNAME:NZST
DTSTART:20230401T140000
END:STANDARD
BEGIN:DAYLIGHT
TZOFFSETFROM:+1200
TZOFFSETTO:+1300
TZNAME:NZDT
DTSTART:20230923T140000
END:DAYLIGHT
END:VTIMEZONE
BEGIN:VEVENT
DTSTART;VALUE=DATE:20221008
DTEND;VALUE=DATE:20221009
DTSTAMP:20260423T070301
CREATED:20220210T043958Z
LAST-MODIFIED:20220921T095859Z
UID:168-1665187200-1665273599@eastbourne.nz
SUMMARY:Local Government Elections
DESCRIPTION:Elections for local authorities are held in every 3 years in New Zealand. \nResidents and ratepayers have the chance to vote for: \n\nthe Mayor\nCouncillors\nCommunity Boards\nthe Hutt Valley District Health Board\nMana Charitable Trust\nthe Greater Wellington Regional Council.\n\nEastern Bays are in the Harbour Ward. \nFind your electorate using this interactive map \nThe Eastbourne Community Board has 5 elected members plus the Harbour Ward elected Councillor.
URL:https://eastbourne.nz/event/local-government-elections/
ATTACH;FMTTYPE=image/png:https://eastbourne.nz/wp-content/uploads/2022/08/meethecandidates.png
END:VEVENT
END:VCALENDAR