BEGIN:VCALENDAR
VERSION:2.0
PRODID:-//Eastbourne NZ - ECPv6.15.20//NONSGML v1.0//EN
CALSCALE:GREGORIAN
METHOD:PUBLISH
X-WR-CALNAME:Eastbourne NZ
X-ORIGINAL-URL:https://eastbourne.nz
X-WR-CALDESC:Events for Eastbourne NZ
REFRESH-INTERVAL;VALUE=DURATION:PT1H
X-Robots-Tag:noindex
X-PUBLISHED-TTL:PT1H
BEGIN:VTIMEZONE
TZID:Pacific/Auckland
BEGIN:STANDARD
TZOFFSETFROM:+1300
TZOFFSETTO:+1200
TZNAME:NZST
DTSTART:20210403T140000
END:STANDARD
BEGIN:DAYLIGHT
TZOFFSETFROM:+1200
TZOFFSETTO:+1300
TZNAME:NZDT
DTSTART:20210925T140000
END:DAYLIGHT
BEGIN:STANDARD
TZOFFSETFROM:+1300
TZOFFSETTO:+1200
TZNAME:NZST
DTSTART:20220402T140000
END:STANDARD
BEGIN:DAYLIGHT
TZOFFSETFROM:+1200
TZOFFSETTO:+1300
TZNAME:NZDT
DTSTART:20220924T140000
END:DAYLIGHT
BEGIN:STANDARD
TZOFFSETFROM:+1300
TZOFFSETTO:+1200
TZNAME:NZST
DTSTART:20230401T140000
END:STANDARD
BEGIN:DAYLIGHT
TZOFFSETFROM:+1200
TZOFFSETTO:+1300
TZNAME:NZDT
DTSTART:20230923T140000
END:DAYLIGHT
END:VTIMEZONE
BEGIN:VEVENT
DTSTART;TZID=Pacific/Auckland:20221012T193000
DTEND;TZID=Pacific/Auckland:20221012T213000
DTSTAMP:20260423T081908
CREATED:20220928T214026Z
LAST-MODIFIED:20220928T214026Z
UID:1364-1665603000-1665610200@eastbourne.nz
SUMMARY:Eastern Bays Climate Change Response Network
DESCRIPTION:Meeting  7.30pm  Wednesday 12 October \nSt Ronan’s Hall \, Muritai Rd\n\nIf you would like to become involved in community action to respond to climate change come to our first meeting or email Ginny Horrocks vjhorrocks@gmail.com\n\nWe have 40 people signed up so far so come and talk about what we can do together to respond to the climate challenge.
URL:https://eastbourne.nz/event/eastern-bays-climate-change-response-network/
LOCATION:St Ronans Church Hall\, 234 Muritai Road\, Eastbourne\,\, Lower Hutt\, Wellington\, 5013\, New Zealand
ATTACH;FMTTYPE=image/jpeg:https://eastbourne.nz/wp-content/uploads/2022/09/EBCCRNbanner.jpg
ORGANIZER;CN="Ginny Horrocks":MAILTO:vjhorrocks@gmail.com
END:VEVENT
END:VCALENDAR