BEGIN:VCALENDAR
VERSION:2.0
PRODID:-//Eastbourne NZ - ECPv6.15.20//NONSGML v1.0//EN
CALSCALE:GREGORIAN
METHOD:PUBLISH
X-WR-CALNAME:Eastbourne NZ
X-ORIGINAL-URL:https://eastbourne.nz
X-WR-CALDESC:Events for Eastbourne NZ
REFRESH-INTERVAL;VALUE=DURATION:PT1H
X-Robots-Tag:noindex
X-PUBLISHED-TTL:PT1H
BEGIN:VTIMEZONE
TZID:Pacific/Auckland
BEGIN:STANDARD
TZOFFSETFROM:+1300
TZOFFSETTO:+1200
TZNAME:NZST
DTSTART:20210403T140000
END:STANDARD
BEGIN:DAYLIGHT
TZOFFSETFROM:+1200
TZOFFSETTO:+1300
TZNAME:NZDT
DTSTART:20210925T140000
END:DAYLIGHT
BEGIN:STANDARD
TZOFFSETFROM:+1300
TZOFFSETTO:+1200
TZNAME:NZST
DTSTART:20220402T140000
END:STANDARD
BEGIN:DAYLIGHT
TZOFFSETFROM:+1200
TZOFFSETTO:+1300
TZNAME:NZDT
DTSTART:20220924T140000
END:DAYLIGHT
BEGIN:STANDARD
TZOFFSETFROM:+1300
TZOFFSETTO:+1200
TZNAME:NZST
DTSTART:20230401T140000
END:STANDARD
BEGIN:DAYLIGHT
TZOFFSETFROM:+1200
TZOFFSETTO:+1300
TZNAME:NZDT
DTSTART:20230923T140000
END:DAYLIGHT
END:VTIMEZONE
BEGIN:VEVENT
DTSTART;TZID=Pacific/Auckland:20221020T100000
DTEND;TZID=Pacific/Auckland:20221020T153000
DTSTAMP:20260423T070626
CREATED:20221013T225108Z
LAST-MODIFIED:20221013T225108Z
UID:1392-1666260000-1666279800@eastbourne.nz
SUMMARY:Online Banking for seniors or those that are interested
DESCRIPTION:DORA the Digital Bus is coming to Eastbourne Library on the 20 October to deliver free classes in Online Banking for seniors or those that are interested. To find out more please go to our website https://steppingup.nz/digital-banking-hutt-city/ or call Eastbourne Library to register on 04 562 8042.
URL:https://eastbourne.nz/event/online-banking-for-seniors-or-those-that-are-interested/
LOCATION:Eastbourne Community Hub/Library\, 38 Rimu Street\, Eastbourne\, Lower Hutt\, 5013\, New Zealand
END:VEVENT
END:VCALENDAR