BEGIN:VCALENDAR
VERSION:2.0
PRODID:-//Eastbourne NZ - ECPv6.15.11//NONSGML v1.0//EN
CALSCALE:GREGORIAN
METHOD:PUBLISH
X-ORIGINAL-URL:https://eastbourne.nz
X-WR-CALDESC:Events for Eastbourne NZ
REFRESH-INTERVAL;VALUE=DURATION:PT1H
X-Robots-Tag:noindex
X-PUBLISHED-TTL:PT1H
BEGIN:VTIMEZONE
TZID:Pacific/Auckland
BEGIN:STANDARD
TZOFFSETFROM:+1300
TZOFFSETTO:+1200
TZNAME:NZST
DTSTART:20210403T140000
END:STANDARD
BEGIN:DAYLIGHT
TZOFFSETFROM:+1200
TZOFFSETTO:+1300
TZNAME:NZDT
DTSTART:20210925T140000
END:DAYLIGHT
BEGIN:STANDARD
TZOFFSETFROM:+1300
TZOFFSETTO:+1200
TZNAME:NZST
DTSTART:20220402T140000
END:STANDARD
BEGIN:DAYLIGHT
TZOFFSETFROM:+1200
TZOFFSETTO:+1300
TZNAME:NZDT
DTSTART:20220924T140000
END:DAYLIGHT
BEGIN:STANDARD
TZOFFSETFROM:+1300
TZOFFSETTO:+1200
TZNAME:NZST
DTSTART:20230401T140000
END:STANDARD
BEGIN:DAYLIGHT
TZOFFSETFROM:+1200
TZOFFSETTO:+1300
TZNAME:NZDT
DTSTART:20230923T140000
END:DAYLIGHT
END:VTIMEZONE
BEGIN:VEVENT
DTSTART;TZID=Pacific/Auckland:20221206T191500
DTEND;TZID=Pacific/Auckland:20221206T210000
DTSTAMP:20260420T233824
CREATED:20221031T092943Z
LAST-MODIFIED:20221130T025254Z
UID:1558-1670354100-1670360400@eastbourne.nz
SUMMARY:Eastbourne Community Board Meeting
DESCRIPTION:Open to the public.  Agenda is available as PDF
URL:https://eastbourne.nz/event/eastbourne-community-board-meeting-4/
LOCATION:East Harbour Womens Club\, 145 Muritai Road\, Eastbourne\, Lower Hutt\, Wellington\, 5013\, New Zealand
CATEGORIES:Eastbourne Community Board Meeting
ATTACH;FMTTYPE=image/png:https://eastbourne.nz/wp-content/uploads/2022/10/ebcb-banner.png
END:VEVENT
END:VCALENDAR