BEGIN:VCALENDAR
VERSION:2.0
PRODID:-//Eastbourne NZ - ECPv6.15.20//NONSGML v1.0//EN
CALSCALE:GREGORIAN
METHOD:PUBLISH
X-WR-CALNAME:Eastbourne NZ
X-ORIGINAL-URL:https://eastbourne.nz
X-WR-CALDESC:Events for Eastbourne NZ
REFRESH-INTERVAL;VALUE=DURATION:PT1H
X-Robots-Tag:noindex
X-PUBLISHED-TTL:PT1H
BEGIN:VTIMEZONE
TZID:Pacific/Auckland
BEGIN:STANDARD
TZOFFSETFROM:+1300
TZOFFSETTO:+1200
TZNAME:NZST
DTSTART:20220402T140000
END:STANDARD
BEGIN:DAYLIGHT
TZOFFSETFROM:+1200
TZOFFSETTO:+1300
TZNAME:NZDT
DTSTART:20220924T140000
END:DAYLIGHT
BEGIN:STANDARD
TZOFFSETFROM:+1300
TZOFFSETTO:+1200
TZNAME:NZST
DTSTART:20230401T140000
END:STANDARD
BEGIN:DAYLIGHT
TZOFFSETFROM:+1200
TZOFFSETTO:+1300
TZNAME:NZDT
DTSTART:20230923T140000
END:DAYLIGHT
BEGIN:STANDARD
TZOFFSETFROM:+1300
TZOFFSETTO:+1200
TZNAME:NZST
DTSTART:20240406T140000
END:STANDARD
BEGIN:DAYLIGHT
TZOFFSETFROM:+1200
TZOFFSETTO:+1300
TZNAME:NZDT
DTSTART:20240928T140000
END:DAYLIGHT
END:VTIMEZONE
BEGIN:VEVENT
DTSTART;VALUE=DATE:20231001
DTEND;VALUE=DATE:20231002
DTSTAMP:20260422T233249
CREATED:20230920T042853Z
LAST-MODIFIED:20230920T233308Z
UID:2389-1696118400-1696204799@eastbourne.nz
SUMMARY:Speed Change to 50 kph for Eastern Bays
DESCRIPTION:Following consultation with the Eastern Bays community earlier this year\, from 1 October there will be a reduction in the speed limit along Marine Parade between Whiorau Lowry Bay and Sunshine Bay\, from 70km/h to 50km/h. This will improve safety for all road users\, including those walking and cycling\, while maintaining a consistent speed limit along the Eastern Bays waterfront. \nMore information and a map is available at hutt.city/EBspeedchange.
URL:https://eastbourne.nz/event/speed-change-to-50-kph-for-eastern-bays/
CATEGORIES:Information,Single
ATTACH;FMTTYPE=image/png:https://eastbourne.nz/wp-content/uploads/Icons/HCClogo.png
END:VEVENT
END:VCALENDAR