BEGIN:VCALENDAR
VERSION:2.0
PRODID:-//Eastbourne NZ - ECPv6.15.20//NONSGML v1.0//EN
CALSCALE:GREGORIAN
METHOD:PUBLISH
X-ORIGINAL-URL:https://eastbourne.nz
X-WR-CALDESC:Events for Eastbourne NZ
REFRESH-INTERVAL;VALUE=DURATION:PT1H
X-Robots-Tag:noindex
X-PUBLISHED-TTL:PT1H
BEGIN:VTIMEZONE
TZID:Pacific/Auckland
BEGIN:STANDARD
TZOFFSETFROM:+1300
TZOFFSETTO:+1200
TZNAME:NZST
DTSTART:20250405T140000
END:STANDARD
BEGIN:DAYLIGHT
TZOFFSETFROM:+1200
TZOFFSETTO:+1300
TZNAME:NZDT
DTSTART:20250927T140000
END:DAYLIGHT
BEGIN:STANDARD
TZOFFSETFROM:+1300
TZOFFSETTO:+1200
TZNAME:NZST
DTSTART:20260404T140000
END:STANDARD
BEGIN:DAYLIGHT
TZOFFSETFROM:+1200
TZOFFSETTO:+1300
TZNAME:NZDT
DTSTART:20260926T140000
END:DAYLIGHT
BEGIN:STANDARD
TZOFFSETFROM:+1300
TZOFFSETTO:+1200
TZNAME:NZST
DTSTART:20270403T140000
END:STANDARD
BEGIN:DAYLIGHT
TZOFFSETFROM:+1200
TZOFFSETTO:+1300
TZNAME:NZDT
DTSTART:20270925T140000
END:DAYLIGHT
END:VTIMEZONE
BEGIN:VEVENT
DTSTART;TZID=Pacific/Auckland:20260405T020000
DTEND;TZID=Pacific/Auckland:20260405T030000
DTSTAMP:20260424T065501
CREATED:20260315T093655Z
LAST-MODIFIED:20260403T211231Z
UID:4694-1775354400-1775358000@eastbourne.nz
SUMMARY:Daylight Saving Ends
DESCRIPTION:At 3am – clocks go back 1 hour to 2am
URL:https://eastbourne.nz/event/daylight-saving-ends-4/
CATEGORIES:daylight saving,Single
ATTACH;FMTTYPE=image/png:https://eastbourne.nz/wp-content/uploads/2022/09/daylightsavingends.png
END:VEVENT
END:VCALENDAR