BEGIN:VCALENDAR
VERSION:2.0
PRODID:-//Eastbourne NZ - ECPv6.15.20//NONSGML v1.0//EN
CALSCALE:GREGORIAN
METHOD:PUBLISH
X-ORIGINAL-URL:https://eastbourne.nz
X-WR-CALDESC:Events for Eastbourne NZ
REFRESH-INTERVAL;VALUE=DURATION:PT1H
X-Robots-Tag:noindex
X-PUBLISHED-TTL:PT1H
BEGIN:VTIMEZONE
TZID:Pacific/Auckland
BEGIN:STANDARD
TZOFFSETFROM:+1300
TZOFFSETTO:+1200
TZNAME:NZST
DTSTART:20230401T140000
END:STANDARD
BEGIN:DAYLIGHT
TZOFFSETFROM:+1200
TZOFFSETTO:+1300
TZNAME:NZDT
DTSTART:20230923T140000
END:DAYLIGHT
BEGIN:STANDARD
TZOFFSETFROM:+1300
TZOFFSETTO:+1200
TZNAME:NZST
DTSTART:20240406T140000
END:STANDARD
BEGIN:DAYLIGHT
TZOFFSETFROM:+1200
TZOFFSETTO:+1300
TZNAME:NZDT
DTSTART:20240928T140000
END:DAYLIGHT
BEGIN:STANDARD
TZOFFSETFROM:+1300
TZOFFSETTO:+1200
TZNAME:NZST
DTSTART:20250405T140000
END:STANDARD
BEGIN:DAYLIGHT
TZOFFSETFROM:+1200
TZOFFSETTO:+1300
TZNAME:NZDT
DTSTART:20250927T140000
END:DAYLIGHT
END:VTIMEZONE
BEGIN:VEVENT
DTSTART;VALUE=DATE:20240701
DTEND;VALUE=DATE:20240802
DTSTAMP:20260422T232828
CREATED:20240703T224120Z
LAST-MODIFIED:20240709T213221Z
UID:3103-1719792000-1722556799@eastbourne.nz
SUMMARY:1 July -1 Aug (under way) HCC Representation Review: No more community boards? Have your say!
DESCRIPTION:The review recommends the abolition of all the community boards – you can have your say – more information and links to submission form here
URL:https://eastbourne.nz/event/hcc-representation-review-have-your-say/
LOCATION:Online
CATEGORIES:Civil Defence / WREMO,Climate Change Response,Community action,Consultation,Eastbourne Community Board Meeting,Funding,GWRC,Information,Single,Tupua Horo Nuku
END:VEVENT
BEGIN:VEVENT
DTSTART;TZID=Pacific/Auckland:20240813T191500
DTEND;TZID=Pacific/Auckland:20240813T210000
DTSTAMP:20260422T232828
CREATED:20240622T001255Z
LAST-MODIFIED:20240806T041033Z
UID:3065-1723576500-1723582800@eastbourne.nz
SUMMARY:Eastbourne Community Board Meeting
DESCRIPTION:Note change of venue – this meeting will be at the Eastbourne Community Hub/Library\, same time and other details. \nAny member of the public is welcome to speak for up to 3 minutes on any issue at the beginning of the meeting\, contact the board before the meeting or just notify on arrival if you wish to do so. \nAgenda is available here (pdf).
URL:https://eastbourne.nz/event/eastbourne-community-board-meeting-11/
LOCATION:Eastbourne Community Hub/Library\, 38 Rimu Street\, Eastbourne\, Lower Hutt\, 5013\, New Zealand
CATEGORIES:Eastbourne Community Board Meeting,Single
ATTACH;FMTTYPE=image/png:https://eastbourne.nz/wp-content/uploads/2023/10/EastbourneCommunityBoardLogoSmall.png
END:VEVENT
END:VCALENDAR