BEGIN:VCALENDAR
VERSION:2.0
PRODID:-//Eastbourne NZ - ECPv6.15.20//NONSGML v1.0//EN
CALSCALE:GREGORIAN
METHOD:PUBLISH
X-ORIGINAL-URL:https://eastbourne.nz
X-WR-CALDESC:Events for Eastbourne NZ
REFRESH-INTERVAL;VALUE=DURATION:PT1H
X-Robots-Tag:noindex
X-PUBLISHED-TTL:PT1H
BEGIN:VTIMEZONE
TZID:Pacific/Auckland
BEGIN:STANDARD
TZOFFSETFROM:+1300
TZOFFSETTO:+1200
TZNAME:NZST
DTSTART:20230401T140000
END:STANDARD
BEGIN:DAYLIGHT
TZOFFSETFROM:+1200
TZOFFSETTO:+1300
TZNAME:NZDT
DTSTART:20230923T140000
END:DAYLIGHT
BEGIN:STANDARD
TZOFFSETFROM:+1300
TZOFFSETTO:+1200
TZNAME:NZST
DTSTART:20240406T140000
END:STANDARD
BEGIN:DAYLIGHT
TZOFFSETFROM:+1200
TZOFFSETTO:+1300
TZNAME:NZDT
DTSTART:20240928T140000
END:DAYLIGHT
BEGIN:STANDARD
TZOFFSETFROM:+1300
TZOFFSETTO:+1200
TZNAME:NZST
DTSTART:20250405T140000
END:STANDARD
BEGIN:DAYLIGHT
TZOFFSETFROM:+1200
TZOFFSETTO:+1300
TZNAME:NZDT
DTSTART:20250927T140000
END:DAYLIGHT
END:VTIMEZONE
BEGIN:VEVENT
DTSTART;TZID=Pacific/Auckland:20240416T191500
DTEND;TZID=Pacific/Auckland:20240416T210000
DTSTAMP:20260423T134201
CREATED:20230928T024451Z
LAST-MODIFIED:20240415T102853Z
UID:2398-1713294900-1713301200@eastbourne.nz
SUMMARY:Eastbourne Community Board meetings (2024)
DESCRIPTION:The next ECB meeting is at 7.15pm Tuesday 16 April at the East Harbour Womens Club. \nThe agenda and the chairs report are now available for download (PDF 2.2MB) The chairs report is also included below and has more details about the meeting\, including public speaking.. \nPresentations at the meeting (in addition to usual business) \n\nWaste management – A verbal presentation by Council’s Manager\, Waste Minimisation.\nTupua Horo Nuku and bird protection areas update: A verbal update by Council’s Project Delivery Manager\, Transport\nLong Term Plan update: A verbal presentation by Deputy Mayor Lewis and Cr Dyer\n\n\nNext meetings \nTuesday 18 June\nTuesday 20 August\nTuesday 22 October
URL:https://eastbourne.nz/event/eastbourne-community-board-meetings-2024/
LOCATION:East Harbour Womens Club\, 145 Muritai Road\, Eastbourne\, Lower Hutt\, Wellington\, 5013\, New Zealand
CATEGORIES:Eastbourne Community Board Meeting
ATTACH;FMTTYPE=image/png:https://eastbourne.nz/wp-content/uploads/2022/10/ebcb-banner.png
END:VEVENT
END:VCALENDAR