BEGIN:VCALENDAR
VERSION:2.0
PRODID:-//Eastbourne NZ - ECPv6.15.20//NONSGML v1.0//EN
CALSCALE:GREGORIAN
METHOD:PUBLISH
X-WR-CALNAME:Eastbourne NZ
X-ORIGINAL-URL:https://eastbourne.nz
X-WR-CALDESC:Events for Eastbourne NZ
REFRESH-INTERVAL;VALUE=DURATION:PT1H
X-Robots-Tag:noindex
X-PUBLISHED-TTL:PT1H
BEGIN:VTIMEZONE
TZID:Pacific/Auckland
BEGIN:STANDARD
TZOFFSETFROM:+1300
TZOFFSETTO:+1200
TZNAME:NZST
DTSTART:20240406T140000
END:STANDARD
BEGIN:DAYLIGHT
TZOFFSETFROM:+1200
TZOFFSETTO:+1300
TZNAME:NZDT
DTSTART:20240928T140000
END:DAYLIGHT
BEGIN:STANDARD
TZOFFSETFROM:+1300
TZOFFSETTO:+1200
TZNAME:NZST
DTSTART:20250405T140000
END:STANDARD
BEGIN:DAYLIGHT
TZOFFSETFROM:+1200
TZOFFSETTO:+1300
TZNAME:NZDT
DTSTART:20250927T140000
END:DAYLIGHT
BEGIN:STANDARD
TZOFFSETFROM:+1300
TZOFFSETTO:+1200
TZNAME:NZST
DTSTART:20260404T140000
END:STANDARD
BEGIN:DAYLIGHT
TZOFFSETFROM:+1200
TZOFFSETTO:+1300
TZNAME:NZDT
DTSTART:20260926T140000
END:DAYLIGHT
END:VTIMEZONE
BEGIN:VEVENT
DTSTART;VALUE=DATE:20250909
DTEND;VALUE=DATE:20250910
DTSTAMP:20260425T013114
CREATED:20250812T003949Z
LAST-MODIFIED:20250812T003949Z
UID:4201-1757376000-1757462399@eastbourne.nz
SUMMARY:Local Government Elections open
DESCRIPTION:Voting documents are posted out and voting opens. \nhttps://www.huttcity.govt.nz/council/elections/2025-local-government-elections/2025-election-information
URL:https://eastbourne.nz/event/local-government-elections-open/
CATEGORIES:election,Single
END:VEVENT
BEGIN:VEVENT
DTSTART;TZID=Pacific/Auckland:20250909T193000
DTEND;TZID=Pacific/Auckland:20250909T213000
DTSTAMP:20260425T013114
CREATED:20250812T003045Z
LAST-MODIFIED:20250908T021157Z
UID:4197-1757446200-1757453400@eastbourne.nz
SUMMARY:Meet the Candidates - Eastbourne Lions
DESCRIPTION:Meet the candidates for the upcoming local body elections.\nThis election you will be voting for the mayor\, 5 city-wide candidates\, and 3 regional council candidates. Our Harbour Ward councillor Tui Lewis has already been decided (uncontested)\, and our Community Board is also decided as we only had the required 5 candidates nominated\, meaning no contest is required. \nThis election will also feature 2 referendums. \n\nTo retain the new Maori Ward (binding  – this will affect the next election in 2028\, not this one).\nIf Hutt City Council should investigate the options for amalgamation (non-binding)\n\nThere will be more information on both these issues leading up to the election. \nHutt City Election information \nGWRC Election information \nMayor (1) \n\nBrady Dyer 021 2468888 b@dyer.nz\nKen Laban 029 2000044 kenlaban@outlook.com\nKaren Morgan 022 1834948 morgan.karen.4.huttcity@gmail.com\nRavi Prabha 021 827252 prabharavi@gmail.com\n\nCity Wide Councillors (5 seats) \n\nSherry Antony 0204 1112288 sherryantonynz@gmail.com\nAndrew Gavriel 027 2407299 ag4LHCC@gmail.com\nJonathon Gilbert 022 6945239 jonathon.Gilbert@intune.nz\nSemi Kuresa 027 8967917 sdkuresa@gmail.com\nSuzanne Levy  022 1729432 vote@suzannelevy.nz\nKath McGuinness  027 2685229 kath4hutt@gmail.com\nChris Paul 021 2862682 christophermpaul@outlook.com\nTony Stallinger 027 4484664 stallingert@gmail.com\nMele Tonga-Grant 021 02587493 mtongagrant4teawakairangi@gmail.com\nKaren Yung 027 3387353 kazforcommunity@gmail.com\n\nGreater Wellington Regional Councillors (3 seats) \n\nDUTHIE\, Quentin Green Party – quentin.duthie@gmail.com\nELDER\, Nigel ACT – nigel.elder@act.org.nz\nFARUQUE\, Omar Independent – wellingtonomar2025@gmail.com\nFISHER\, Mike Independent – mike4gwrc@outlook.co.nz\nMURPHY\, Tom Independent – TomMurphy4GWRC@outlook.com\nSHAND\, Matt – matt.w.shand@gmail.com\nSTEVENSON\, Mike Independent – gwrc.mstevenson@gmail.com\nTUPOU\, Gabriel Independent – gabrieltupou@gmail.com\n\nHarbour Ward Councillor (uncontested) \n\nTui Lewis 021 2716249 tuilewis5012@gmail.com\n\nEastbourne Community Board Members (uncontested) \n\nEmily Keddell 021 1885106 emilykeddell@gmail.com\nBruce Spedding 021 02974741 winzurf@gmail.com\nMurray Gibbons 562 8576 murray@clarrie.co.nz\nJeremy Chaston 027 5155571 Jeremychaston@hotmail.com\nBen Hainsworth 021 342640 hello@benhainsworth.com\n\n  \n 
URL:https://eastbourne.nz/event/meet-the-candidates-eastbourne-lions/
LOCATION:Eastbourne Sports and Services Club\, 48 Tuatoru Street\, Eastbourne\, Lower Hutt 5013
CATEGORIES:election,Featured,Single
ATTACH;FMTTYPE=image/png:https://eastbourne.nz/wp-content/uploads/2022/09/lionslogo.png
END:VEVENT
END:VCALENDAR