BEGIN:VCALENDAR
VERSION:2.0
PRODID:-//Eastbourne NZ - ECPv6.15.20//NONSGML v1.0//EN
CALSCALE:GREGORIAN
METHOD:PUBLISH
X-WR-CALNAME:Eastbourne NZ
X-ORIGINAL-URL:https://eastbourne.nz
X-WR-CALDESC:Events for Eastbourne NZ
REFRESH-INTERVAL;VALUE=DURATION:PT1H
X-Robots-Tag:noindex
X-PUBLISHED-TTL:PT1H
BEGIN:VTIMEZONE
TZID:Pacific/Auckland
BEGIN:STANDARD
TZOFFSETFROM:+1300
TZOFFSETTO:+1200
TZNAME:NZST
DTSTART:20230401T140000
END:STANDARD
BEGIN:DAYLIGHT
TZOFFSETFROM:+1200
TZOFFSETTO:+1300
TZNAME:NZDT
DTSTART:20230923T140000
END:DAYLIGHT
BEGIN:STANDARD
TZOFFSETFROM:+1300
TZOFFSETTO:+1200
TZNAME:NZST
DTSTART:20240406T140000
END:STANDARD
BEGIN:DAYLIGHT
TZOFFSETFROM:+1200
TZOFFSETTO:+1300
TZNAME:NZDT
DTSTART:20240928T140000
END:DAYLIGHT
BEGIN:STANDARD
TZOFFSETFROM:+1300
TZOFFSETTO:+1200
TZNAME:NZST
DTSTART:20250405T140000
END:STANDARD
BEGIN:DAYLIGHT
TZOFFSETFROM:+1200
TZOFFSETTO:+1300
TZNAME:NZDT
DTSTART:20250927T140000
END:DAYLIGHT
END:VTIMEZONE
BEGIN:VEVENT
DTSTART;TZID=Pacific/Auckland:20240105T120000
DTEND;TZID=Pacific/Auckland:20240105T235900
DTSTAMP:20260424T105507
CREATED:20231230T231645Z
LAST-MODIFIED:20231230T231729Z
UID:2533-1704456000-1704499140@eastbourne.nz
SUMMARY:Juicy Fest - Hutt Park (road closures)
DESCRIPTION:Juicy Fest 2024 – Important info\n\n\nHutt Park in Seaview/Moera will be the venue for Juicy Fest 2024 – a large Hip Hop and RnB music festival. For those who live in or plan to travel around this area on this day here is some useful information.\n\n\n WHEN\nThe concert date is Friday 5 January. Gates open at midday and will finish no later than 10.30pm. Expect traffic delays around the event start and finish times.\n\n\n SOUND\nSound limits will be monitored throughout in accordance with the resource consent for this event and will cease by no later than 10.30pm. Some sound checks may be carried out the day before and morning of the event.\n\n\n ROAD CLOSURES & DETOURS\nWe have been working with festival organisers to make a plan for the safe egress of the large numbers of event attendees. As part of this there will be road closures and detours in place around the immediate Hutt Park area from 8pm onwards.\n\n\nRoad closures are in place from 8pm to midnight at Parkside Road from Seaview Road to Bell Road\, and Seaview Road from Barnes St to Seaview roundabout. Detours will be in place via Port Road and Gracefield Road.\n\n\nPlease be patient as Lower Hutt plays host to this festival featuring multiple international acts and attracting up to 15\,000 people.
URL:https://eastbourne.nz/event/juicy-fest/
LOCATION:Hutt Park\, Hutt Park Road\, Moera\, Lower Hutt\, 5010\, New Zealand
CATEGORIES:Festival,Single
END:VEVENT
BEGIN:VEVENT
DTSTART;VALUE=DATE:20240127
DTEND;VALUE=DATE:20240129
DTSTAMP:20260424T105507
CREATED:20240114T233455Z
LAST-MODIFIED:20240114T233455Z
UID:2561-1706313600-1706486399@eastbourne.nz
SUMMARY:Welly Walks - Kowhai Street / Butterfly Creek Track
DESCRIPTION:On the last weekend of January\, walk any of these six trails and discover hidden prizes. \nThe Wellington region has a diverse network of trails to walk\, run\, and ride. There are hundreds to discover that lead to fabulous views\, swimming holes\, waterfalls\, and picnic spots. Every day is a good day to go for a walk\, but the incentive is even higher on 27 and 28 January. For one weekend only\, treats have been hidden on six welly-walked trails in the region. \nGrab the whānau\, look for a specially marked box on each trail\, and score some prizes from local businesses. From 9am each day there are delicious goodies to be found — all you have to do is get outside and find your wild. \nFind your wild to win \n\nŌtari-Wilton’s Bush\,\nWaikanae River Trail\, Kāpiti Coast\nTe Ara Piko\, Porirua\nKowhai Street Track\, Lower Hutt\nTane’s Track\, Upper Hut\nGreytown to Woodside Trail\, Wairarapa\n\nhttps://www.wellingtonnz.com/visit/trails/welly-walks
URL:https://eastbourne.nz/event/welly-walks-kowhai-street-butterfly-creek-track/
LOCATION:Kowhai Street track\, Kowhai StreetEastbourne\, Lower Hutt\, 5013\, New Zealand
CATEGORIES:Recreation / play,Single
END:VEVENT
END:VCALENDAR