BEGIN:VCALENDAR
VERSION:2.0
PRODID:-//Eastbourne NZ - ECPv6.15.20//NONSGML v1.0//EN
CALSCALE:GREGORIAN
METHOD:PUBLISH
X-WR-CALNAME:Eastbourne NZ
X-ORIGINAL-URL:https://eastbourne.nz
X-WR-CALDESC:Events for Eastbourne NZ
REFRESH-INTERVAL;VALUE=DURATION:PT1H
X-Robots-Tag:noindex
X-PUBLISHED-TTL:PT1H
BEGIN:VTIMEZONE
TZID:Pacific/Auckland
BEGIN:STANDARD
TZOFFSETFROM:+1300
TZOFFSETTO:+1200
TZNAME:NZST
DTSTART:20230401T140000
END:STANDARD
BEGIN:DAYLIGHT
TZOFFSETFROM:+1200
TZOFFSETTO:+1300
TZNAME:NZDT
DTSTART:20230923T140000
END:DAYLIGHT
BEGIN:STANDARD
TZOFFSETFROM:+1300
TZOFFSETTO:+1200
TZNAME:NZST
DTSTART:20240406T140000
END:STANDARD
BEGIN:DAYLIGHT
TZOFFSETFROM:+1200
TZOFFSETTO:+1300
TZNAME:NZDT
DTSTART:20240928T140000
END:DAYLIGHT
BEGIN:STANDARD
TZOFFSETFROM:+1300
TZOFFSETTO:+1200
TZNAME:NZST
DTSTART:20250405T140000
END:STANDARD
BEGIN:DAYLIGHT
TZOFFSETFROM:+1200
TZOFFSETTO:+1300
TZNAME:NZDT
DTSTART:20250927T140000
END:DAYLIGHT
END:VTIMEZONE
BEGIN:VEVENT
DTSTART;TZID=Pacific/Auckland:20240229T193000
DTEND;TZID=Pacific/Auckland:20240309T220000
DTSTAMP:20260424T050548
CREATED:20240215T195901Z
LAST-MODIFIED:20240217T183223Z
UID:2748-1709235000-1710021600@eastbourne.nz
SUMMARY:Shakespeare's Macbeth - 29 Feb to 9 March - Butterfly Creek Theatre Troupe
DESCRIPTION:Something wicked this way comes – the only Summer Shakespeare in the Wellington region this year.\nA stunning\, contemporary production of Shakespeare’s fast-paced and powerful tragedy of unchecked power and ambition. Macbeth leads the notorious Scotland crime family’s successful fight against rebels and rivals but he and his wife are ambitious for power. He murders the Boss\, Duncan\, and assumes control of the family. But who can he trust? Things quickly start to fall apart. Blood will have blood as Macbeth sinks into despotism\, friends turn against him and his wife dies. \nWrap up warmly for this outdoor Bard in the Yard production (inside if the weather is poor) at Muritai School yard in Eastbourne. Directed for the award-winning Butterfly Creek Theatre Troupe by John Marwick and Elspeth Cotsilinis. \nRestrictions: Includes violence – parental guidance recommended. \nTicket Information\n\nAdult: $19.65 each ($18.00 + $1.65 fees)\nSenior/Member: $16.58 each ($15.00 + $1.58 fees)\nUnder 25: $0.00 each ($0.00)\n Buy Tickets\n\n\n\nDates\n\n\n\nThu 29 Feb 2024\, 7:30pm–10:00pm\nFri 1 Mar 2024\, 7:30pm–10:00pm\nSat 2 Mar 2024\, 7:30pm–10:00pm\nThu 7 Mar 2024\, 7:30pm–10:00pm\nFri 8 Mar 2024\, 7:30pm–10:00pm\nSat 9 Mar 2024\, 7:30pm–10:00pm\n\n\n\n\n\nRestrictions\nR13 \n\n\nPhone Sales\n\n0800 BUY TIX (289 849) – Ticket Outlets\n\n\n\nWebsite\n\nButterfly Creek Theatre Troupe
URL:https://eastbourne.nz/event/bcttmacbeth/
LOCATION:Muritai School Yard
CATEGORIES:Single,Theatre performance
ORGANIZER;CN="Butterfly Creek Theatre Troupe":MAILTO:bctt.org.nz@gmail.com
END:VEVENT
BEGIN:VEVENT
DTSTART;TZID=Pacific/Auckland:20240302T080000
DTEND;TZID=Pacific/Auckland:20240302T120000
DTSTAMP:20260424T050548
CREATED:20240215T081527Z
LAST-MODIFIED:20240229T084744Z
UID:2744-1709366400-1709380800@eastbourne.nz
SUMMARY:CANCELLED: Eastbourne Community Board - Walk Around
DESCRIPTION:This event has been cancelled as were are not enough issues to warrant the effort and cost. Individual bays will be contacted and any issues raised will be dealt with individually. Thank you. ECB\nOn Saturday 2 March\, the Community Board will have its annual trip through Eastbourne and the Bays\, visiting Resident Associations and residents. As usual\, we plan to travel (by van) south from Point Howard\, spending 20-30 minutes in each bay or area to discuss any issues residents would like to bring to our attention. These are generally broader issues or concerns not otherwise managed through the Council’s Report a Problem service.A Council officer will join us for the morning.Can you please send Belinda Moss a list of any issues or concerns you would like to discuss with the Board\, and suggest where you would like to meet us? I will share a timetable nearer the time.We’ll send the notes\, actions and Council responses from the 2023 walk around in the next few days.We look forward to meeting with you.Ngā mihi nui
URL:https://eastbourne.nz/event/eastbourne-community-board-walk-around-saturday-2-march/
LOCATION:Eastern Bays
CATEGORIES:Single
ATTACH;FMTTYPE=image/png:https://eastbourne.nz/wp-content/uploads/2022/07/ECBLogoy-e1748555039711.png
END:VEVENT
BEGIN:VEVENT
DTSTART;TZID=Pacific/Auckland:20240303T080000
DTEND;TZID=Pacific/Auckland:20240303T110000
DTSTAMP:20260424T050548
CREATED:20240114T032958Z
LAST-MODIFIED:20240304T081213Z
UID:2541-1709452800-1709463600@eastbourne.nz
SUMMARY:Eastbourne Wharf to Wharf Swim 2024
DESCRIPTION:The Eastbourne Wharf-to-Wharf swim was held on Sunday 3rd March – results of the 2024 swim can be found here \nThe Wharf-to-Wharf swim has become an Eastbourne institution that has been running for over 100 years. This fun\, non-competitive friendly swim event is run by the Muritai Yacht Club and volunteers for the benefit of the Eastbourne community.  The course begins on Days Bay beach and finishes next to the Rona Bay wharf in Eastbourne. Every person is a winner and at a distance of approximately 1.25km it is an event that all age groups can enjoy together. \nEntry is open to any swimmer who is confident in deep water but we do require that swimmers under the age of 12 years have parental consent and we recommend that an adult swims with a child who is in this age group. Numbers may be limited to a maximum of 200 at the discretion of the organisers. \nWe look forward to seeing you in Eastbourne 2025.
URL:https://eastbourne.nz/event/eastbourne-wharf-to-wharf-swim-2024/
LOCATION:Days Bay beach\, 611 Marine Drive\, Days Bay\, 5013\, New Zealand
CATEGORIES:competition,Recreation / play,Single
ATTACH;FMTTYPE=image/png:https://eastbourne.nz/wp-content/uploads/2022/11/wharf2wharf-banner.png
ORGANIZER;CN="EastbourneW2W":MAILTO:EastbourneW2W@gmail.com
END:VEVENT
BEGIN:VEVENT
DTSTART;TZID=Pacific/Auckland:20240323T080000
DTEND;TZID=Pacific/Auckland:20240323T140000
DTSTAMP:20260424T050548
CREATED:20231115T220623Z
LAST-MODIFIED:20240208T044755Z
UID:2468-1711180800-1711202400@eastbourne.nz
SUMMARY:Lions Auction
DESCRIPTION:
URL:https://eastbourne.nz/event/lions-auction/
LOCATION:Muritai School Hall\, 166 Muritai Road\, Eastbourne\, Lower Hutt
CATEGORIES:Auction,Single
ATTACH;FMTTYPE=image/png:https://eastbourne.nz/wp-content/uploads/2022/09/lionslogo.png
END:VEVENT
BEGIN:VEVENT
DTSTART;TZID=Pacific/Auckland:20240324T100000
DTEND;TZID=Pacific/Auckland:20240324T150000
DTSTAMP:20260424T050548
CREATED:20231216T030216Z
LAST-MODIFIED:20240213T004958Z
UID:2527-1711274400-1711292400@eastbourne.nz
SUMMARY:Eastern Bays Resilience Expo
DESCRIPTION:This will be an expo day focussing on all aspects of community resilience covering Reduction (mitigation)\, Readiness (preparation)\, Response (action) and Recovery. \nExpect to see more about this event over the coming months\, and if you’d like to be part of it please get in touch. \nFind out more about the Eastern Bays Community Resilience Expo
URL:https://eastbourne.nz/event/eastern-bays-resilience-expo/
LOCATION:Muritai School Hall\, 166 Muritai Road\, Eastbourne\, Lower Hutt
CATEGORIES:Civil Defence / WREMO,Climate Change Response,Community action,Single
ATTACH;FMTTYPE=image/jpeg:https://eastbourne.nz/wp-content/uploads/2024/01/CommunityResilienceExpoBanner1-1.jpg
END:VEVENT
END:VCALENDAR