BEGIN:VCALENDAR
VERSION:2.0
PRODID:-//Eastbourne NZ - ECPv6.15.20//NONSGML v1.0//EN
CALSCALE:GREGORIAN
METHOD:PUBLISH
X-ORIGINAL-URL:https://eastbourne.nz
X-WR-CALDESC:Events for Eastbourne NZ
REFRESH-INTERVAL;VALUE=DURATION:PT1H
X-Robots-Tag:noindex
X-PUBLISHED-TTL:PT1H
BEGIN:VTIMEZONE
TZID:Pacific/Auckland
BEGIN:STANDARD
TZOFFSETFROM:+1300
TZOFFSETTO:+1200
TZNAME:NZST
DTSTART:20230401T140000
END:STANDARD
BEGIN:DAYLIGHT
TZOFFSETFROM:+1200
TZOFFSETTO:+1300
TZNAME:NZDT
DTSTART:20230923T140000
END:DAYLIGHT
BEGIN:STANDARD
TZOFFSETFROM:+1300
TZOFFSETTO:+1200
TZNAME:NZST
DTSTART:20240406T140000
END:STANDARD
BEGIN:DAYLIGHT
TZOFFSETFROM:+1200
TZOFFSETTO:+1300
TZNAME:NZDT
DTSTART:20240928T140000
END:DAYLIGHT
BEGIN:STANDARD
TZOFFSETFROM:+1300
TZOFFSETTO:+1200
TZNAME:NZST
DTSTART:20250405T140000
END:STANDARD
BEGIN:DAYLIGHT
TZOFFSETFROM:+1200
TZOFFSETTO:+1300
TZNAME:NZDT
DTSTART:20250927T140000
END:DAYLIGHT
END:VTIMEZONE
BEGIN:VEVENT
DTSTART;TZID=Pacific/Auckland:20240406T120000
DTEND;TZID=Pacific/Auckland:20240406T130000
DTSTAMP:20260424T035040
CREATED:20240331T085256Z
LAST-MODIFIED:20240331T085408Z
UID:2877-1712404800-1712408400@eastbourne.nz
SUMMARY:HCC Long Term Plan Drop-in session
DESCRIPTION:6th April\, 12-1pm\, Eastbourne Community Hub (aka Library) \nThe 10 Year Plan\, also known as the Long Term Plan (LTP)\, is council’s key strategic document. It sets out our priorities for the next 10 years\, including what we will do\, how much it will cost and how we will fund it. It’s reviewed every three years to make sure it is still relevant and accurate. \n 
URL:https://eastbourne.nz/event/hcc-long-term-plan-drop-in-session/
LOCATION:Eastbourne Community Hub/Library\, 38 Rimu Street\, Eastbourne\, Lower Hutt\, 5013\, New Zealand
CATEGORIES:Briefing,Consultation,Single
ATTACH;FMTTYPE=image/png:https://eastbourne.nz/wp-content/uploads/Icons/HCClogo.png
END:VEVENT
BEGIN:VEVENT
DTSTART;TZID=Pacific/Auckland:20240407T030000
DTEND;TZID=Pacific/Auckland:20240407T233000
DTSTAMP:20260424T035040
CREATED:20230913T093546Z
LAST-MODIFIED:20231103T032608Z
UID:2381-1712458800-1712532600@eastbourne.nz
SUMMARY:NZ Daylight Saving ends
DESCRIPTION:Daylight saving ends at 3am\, clocks back 1 hour
URL:https://eastbourne.nz/event/nz-daylight-saving-ends/
CATEGORIES:daylight saving,Single
ATTACH;FMTTYPE=image/png:https://eastbourne.nz/wp-content/uploads/2022/09/daylightsavingends.png
END:VEVENT
BEGIN:VEVENT
DTSTART;TZID=Pacific/Auckland:20240411T080000
DTEND;TZID=Pacific/Auckland:20240503T170000
DTSTAMP:20260424T035040
CREATED:20240410T225634Z
LAST-MODIFIED:20240430T042859Z
UID:2892-1712822400-1714755600@eastbourne.nz
SUMMARY:HCC Long Term Plan consultation (ends 3 May)
DESCRIPTION:HCC are carrying out this consultation to get your feedback on our draft 2024-2034 10 Year Plan. In the Consultation Document they’ve set out our direction and priorities across all areas – including infrastructure\, our services and facilities\, environmental initiatives\, and overall financial planning. \nWe want to hear what you think about the proposals they’ve made in this draft plan. It’s one of our most important 10 Year Plans\, so get involved and help us take the next steps! \nhttps://www.huttcity.govt.nz/LTP-2024 \nHere you’ll find: \n\nDirect links to our feedback form – click through and have your say today!\nMore information about the four key issues we are consulting on\nSupporting information about asset management\, infrastructure\, finances and where we’ve already made savings\n\nThe feedback form won’t take you long\, depending on how much detail you’d like to give. You can provide as much or as little feedback as you like. We know you are busy\, so we now have the functionality where you can save your online feedback form and come back to it later. \nIt’s a challenging time economically for everyone\, which is why this is one of our most important 10 Year Plans. Help us take the next steps in making Te Awa Kairangi ki Tai Lower Hutt a great place to live – now and into the future. \nIf you have any questions at all\, then please email HCC on: haveyoursay@huttcity.govt.nz \nFeedback closes at 5pm on Friday 3 May 2024.
URL:https://eastbourne.nz/event/hcc-long-term-plan-next-10-years-consultation/
LOCATION:Online
CATEGORIES:Consultation,Information,Single
ATTACH;FMTTYPE=image/jpeg:https://eastbourne.nz/wp-content/uploads/2024/04/LTPlan.jpg
END:VEVENT
BEGIN:VEVENT
DTSTART;VALUE=DATE:20240412
DTEND;VALUE=DATE:20240413
DTSTAMP:20260424T035040
CREATED:20240403T020005Z
LAST-MODIFIED:20240403T020027Z
UID:2881-1712880000-1712966399@eastbourne.nz
SUMMARY:East by West Ferry - late sailings end
DESCRIPTION:Please be aware our late sailing ends on Friday 12th April. This means we will no longer be running the 8:30pm departure from Queens Wharf / 8:55pm from Days Bay on Thursdays and Fridays until next Summer.
URL:https://eastbourne.nz/event/east-by-we4st-ferry-late-sailings-end/
LOCATION:Days Bay beach\, 611 Marine Drive\, Days Bay\, 5013\, New Zealand
CATEGORIES:Information,Single
ATTACH;FMTTYPE=image/png:https://eastbourne.nz/wp-content/uploads/2023/06/ebywlogo_200x138.png
END:VEVENT
BEGIN:VEVENT
DTSTART;TZID=Pacific/Auckland:20240425T100000
DTEND;TZID=Pacific/Auckland:20240425T110000
DTSTAMP:20260424T035040
CREATED:20240128T212137Z
LAST-MODIFIED:20260419T050801Z
UID:2713-1714039200-1714042800@eastbourne.nz
SUMMARY:ANZAC Day
DESCRIPTION:EMRSA_ANZAC Day Service Sheet 2026 \nAnzac Day is usually commemorated by the Eastbourne Community at the war memorial adjacent to Muritai School\, followed by refreshments at the Eastbourne Sports and Services Club. \nAssembly at Ballinger Gardens\, Makaro Street from 9.30am – March to the Memorial Gates\, Muritai School. ANZAC Service commences at 10am. \nAnzac Day is observed on 25 April. It commemorates New Zealanders killed in war and honours returned and serving servicemen and women. \nAnzac Day dates\n1916 – Anzac Day gazetted as a half-day holiday \n1921 – Anzac Day becomes a full public holiday \n1939 – Dawn ceremony widely included in New Zealand Anzac Day commemorations for the first time \n1949 – Legislation passed preventing Anzac Day from being ‘Mondayised’ \n1966 – Current Anzac Day Act liberalises activities allowed after 1 p.m. on Anzac Day \n2013 – When 25 April falls on a Saturday or Sunday\, the Monday will now be a public holiday \n2020 – All Anzac Day public ceremonies in New Zealand cancelled because of COVID-19 coronavirus pandemic \nThe date marks the anniversary of the landing of Australian and New Zealand soldiers – the Anzacs – on the Gallipoli Peninsula in 1915. The aim was to capture the Dardanelles and open a sea route to the Bosphorus and the Black Sea. At the end of the campaign\, Gallipoli was still held by its Ottoman Turkish defenders. \nThousands lost their lives during the Gallipoli campaign: 87\,000 Ottoman Turks\, 44\,000 men from France and the British Empire\, including 8500 Australians. To this day\, Australia also marks the events of 25 April. Among the dead were 2779 New Zealanders\, about one in six of those who served on Gallipoli. \nThey may have ended in military defeat\, but for many New Zealanders then and since\, the Gallipoli landings signalled that New Zealand was becoming a distinct nation\, even as it fought on the other side of the world in the name of the British Empire. \nAnzac Day was first observed in 1916. The day has gone through many changes since. The ceremonies that are held at war memorials up and down New Zealand\, and in places overseas where New Zealanders gather\, are modelled on a military funeral and remain rich in tradition and ritual. \n(https://nzhistory.govt.nz/war/anzac-day/introduction)
URL:https://eastbourne.nz/event/anzac-day/2024-04-25/
LOCATION:Memorial Gates\, Muritai School\, 166 Muritai Road\, Eastbourne\, Lower Hutt 5013\, Lower Hutt\, Wellington\, New Zealand
CATEGORIES:Anniversary,ANZAC Day,Single
ORGANIZER;CN="Eastbourne Memorial RSA":MAILTO:Eastbournememorialrsa@gmail.com
END:VEVENT
BEGIN:VEVENT
DTSTART;TZID=Pacific/Auckland:20240425T100000
DTEND;TZID=Pacific/Auckland:20240425T110000
DTSTAMP:20260424T035040
CREATED:20240310T102848Z
LAST-MODIFIED:20240310T103034Z
UID:2827-1714039200-1714042800@eastbourne.nz
SUMMARY:ANZAC Day Citizens Service
DESCRIPTION:10 am Citizens Service at the War Memorial Gates at Muritai School. A march will precede the Service – assembling at Ballinger Gardens from 9.30. The club will be open post the Service for Morning Tea.
URL:https://eastbourne.nz/event/anzac-day-citizens-service/
LOCATION:Memorial Gates\, Muritai School\, 166 Muritai Road\, Eastbourne\, Lower Hutt 5013\, Lower Hutt\, Wellington\, New Zealand
CATEGORIES:Anniversary,ANZAC Day,Single
ATTACH;FMTTYPE=image/png:https://eastbourne.nz/wp-content/uploads/2023/04/EMRSA.png
END:VEVENT
BEGIN:VEVENT
DTSTART;TZID=Pacific/Auckland:20240430T183000
DTEND;TZID=Pacific/Auckland:20240430T203000
DTSTAMP:20260424T035040
CREATED:20240409T223800Z
LAST-MODIFIED:20240409T223935Z
UID:2887-1714501800-1714509000@eastbourne.nz
SUMMARY:Wellington Electricity Community Info evening
DESCRIPTION:Wellington Electricity invites you to a community gathering at East Harbour Women’s Club in Eastbourne. \nThe event offers an opportunity to learn more about Wellington Electricity and engage with our team. \nPlease join us for a short presentation and light refreshments. \nThere will be a Q&A session but we also welcome questions by email in advance of the event\, or at any time. \nRSVP is appreciated for catering reasons. Please let us know if you’d like to attend\,  via email\, by Friday 26 April . \nRSVP:  we_CustomerService@welectricity.co.nz
URL:https://eastbourne.nz/event/welectricity-info-evening/
LOCATION:East Harbour Womens Club\, 145 Muritai Road\, Eastbourne\, Lower Hutt\, Wellington\, 5013\, New Zealand
CATEGORIES:Civil Defence / WREMO,Information,Single
ORGANIZER;CN="Wellington Electricity":MAILTO:we_CustomerService@welectricity.co.nz
END:VEVENT
END:VCALENDAR