BEGIN:VCALENDAR
VERSION:2.0
PRODID:-//Eastbourne NZ - ECPv6.15.20//NONSGML v1.0//EN
CALSCALE:GREGORIAN
METHOD:PUBLISH
X-WR-CALNAME:Eastbourne NZ
X-ORIGINAL-URL:https://eastbourne.nz
X-WR-CALDESC:Events for Eastbourne NZ
REFRESH-INTERVAL;VALUE=DURATION:PT1H
X-Robots-Tag:noindex
X-PUBLISHED-TTL:PT1H
BEGIN:VTIMEZONE
TZID:Pacific/Auckland
BEGIN:STANDARD
TZOFFSETFROM:+1300
TZOFFSETTO:+1200
TZNAME:NZST
DTSTART:20240406T140000
END:STANDARD
BEGIN:DAYLIGHT
TZOFFSETFROM:+1200
TZOFFSETTO:+1300
TZNAME:NZDT
DTSTART:20240928T140000
END:DAYLIGHT
BEGIN:STANDARD
TZOFFSETFROM:+1300
TZOFFSETTO:+1200
TZNAME:NZST
DTSTART:20250405T140000
END:STANDARD
BEGIN:DAYLIGHT
TZOFFSETFROM:+1200
TZOFFSETTO:+1300
TZNAME:NZDT
DTSTART:20250927T140000
END:DAYLIGHT
BEGIN:STANDARD
TZOFFSETFROM:+1300
TZOFFSETTO:+1200
TZNAME:NZST
DTSTART:20260404T140000
END:STANDARD
BEGIN:DAYLIGHT
TZOFFSETFROM:+1200
TZOFFSETTO:+1300
TZNAME:NZDT
DTSTART:20260926T140000
END:DAYLIGHT
END:VTIMEZONE
BEGIN:VEVENT
DTSTART;TZID=Pacific/Auckland:20250125T090000
DTEND;TZID=Pacific/Auckland:20250125T170000
DTSTAMP:20260422T055333
CREATED:20250112T053930Z
LAST-MODIFIED:20250112T054057Z
UID:3496-1737795600-1737824400@eastbourne.nz
SUMMARY:Scrap Metal Drive (free) - Eastbourne Scouts
DESCRIPTION:EB Scouts are doing their bit for the planet this month and collecting scrap metal for recycling on Saturday 25th January. This is a free service for our local community and all you need to do is send us a quick message via Facebook noting any bulky items\, and have everything on the curb by 9am on the day. \n\nSteel\nStainless Steel\nAluminium\nCopper\nBrass\nInsulated cables\n\nUnable to collect items that have gas/petrol/diesel/oil\, such as engines and fridges etc.
URL:https://eastbourne.nz/event/scrap-metal-drive-free-eastbourne-scouts/
CATEGORIES:Fund Raising,Recycling,Repeating,Single
ATTACH;FMTTYPE=image/jpeg:https://eastbourne.nz/wp-content/uploads/2023/09/EmbeddedImage.jpg
END:VEVENT
END:VCALENDAR