BEGIN:VCALENDAR
VERSION:2.0
PRODID:-//Eastbourne NZ - ECPv6.15.20//NONSGML v1.0//EN
CALSCALE:GREGORIAN
METHOD:PUBLISH
X-WR-CALNAME:Eastbourne NZ
X-ORIGINAL-URL:https://eastbourne.nz
X-WR-CALDESC:Events for Eastbourne NZ
REFRESH-INTERVAL;VALUE=DURATION:PT1H
X-Robots-Tag:noindex
X-PUBLISHED-TTL:PT1H
BEGIN:VTIMEZONE
TZID:Pacific/Auckland
BEGIN:STANDARD
TZOFFSETFROM:+1300
TZOFFSETTO:+1200
TZNAME:NZST
DTSTART:20230401T140000
END:STANDARD
BEGIN:DAYLIGHT
TZOFFSETFROM:+1200
TZOFFSETTO:+1300
TZNAME:NZDT
DTSTART:20230923T140000
END:DAYLIGHT
BEGIN:STANDARD
TZOFFSETFROM:+1300
TZOFFSETTO:+1200
TZNAME:NZST
DTSTART:20240406T140000
END:STANDARD
BEGIN:DAYLIGHT
TZOFFSETFROM:+1200
TZOFFSETTO:+1300
TZNAME:NZDT
DTSTART:20240928T140000
END:DAYLIGHT
BEGIN:STANDARD
TZOFFSETFROM:+1300
TZOFFSETTO:+1200
TZNAME:NZST
DTSTART:20250405T140000
END:STANDARD
BEGIN:DAYLIGHT
TZOFFSETFROM:+1200
TZOFFSETTO:+1300
TZNAME:NZDT
DTSTART:20250927T140000
END:DAYLIGHT
END:VTIMEZONE
BEGIN:VEVENT
DTSTART;VALUE=DATE:20240219
DTEND;VALUE=DATE:20240220
DTSTAMP:20260426T024857
CREATED:20240125T081808Z
LAST-MODIFIED:20240125T081808Z
UID:2706-1708300800-1708387199@eastbourne.nz
SUMMARY:East by West Ferries cease Mātiu Somes service for 6-8 months
DESCRIPTION:East by West will not be operating services to Mātiu/Somes Island from 19th February 2024 for 6 – 8 months while the wharf is rebuilt.\nThis means our weekday and weekend timetables will change from the 19th February as we will not be stopping at the island. We have not received a date for the island reopening but we will communicate this to everyone as soon as we’re able to.\nServices will still be running as usual right through to the 18th February so there’s still time to head out to the island over the next few weeks!\nMore information: https://eastbywest.co.nz/matiusomes-island-closure
URL:https://eastbourne.nz/event/east-by-west-ferries-cease-matiu-somes-service-for-6-8-months/
LOCATION:Mātiu Somes Island
CATEGORIES:Single
ATTACH;FMTTYPE=image/png:https://eastbourne.nz/wp-content/uploads/2023/06/ebywlogo_200x138.png
END:VEVENT
END:VCALENDAR