BEGIN:VCALENDAR
VERSION:2.0
PRODID:-//Eastbourne NZ - ECPv6.15.20//NONSGML v1.0//EN
CALSCALE:GREGORIAN
METHOD:PUBLISH
X-WR-CALNAME:Eastbourne NZ
X-ORIGINAL-URL:https://eastbourne.nz
X-WR-CALDESC:Events for Eastbourne NZ
REFRESH-INTERVAL;VALUE=DURATION:PT1H
X-Robots-Tag:noindex
X-PUBLISHED-TTL:PT1H
BEGIN:VTIMEZONE
TZID:Pacific/Auckland
BEGIN:STANDARD
TZOFFSETFROM:+1300
TZOFFSETTO:+1200
TZNAME:NZST
DTSTART:20230401T140000
END:STANDARD
BEGIN:DAYLIGHT
TZOFFSETFROM:+1200
TZOFFSETTO:+1300
TZNAME:NZDT
DTSTART:20230923T140000
END:DAYLIGHT
BEGIN:STANDARD
TZOFFSETFROM:+1300
TZOFFSETTO:+1200
TZNAME:NZST
DTSTART:20240406T140000
END:STANDARD
BEGIN:DAYLIGHT
TZOFFSETFROM:+1200
TZOFFSETTO:+1300
TZNAME:NZDT
DTSTART:20240928T140000
END:DAYLIGHT
BEGIN:STANDARD
TZOFFSETFROM:+1300
TZOFFSETTO:+1200
TZNAME:NZST
DTSTART:20250405T140000
END:STANDARD
BEGIN:DAYLIGHT
TZOFFSETFROM:+1200
TZOFFSETTO:+1300
TZNAME:NZDT
DTSTART:20250927T140000
END:DAYLIGHT
END:VTIMEZONE
BEGIN:VEVENT
DTSTART;TZID=Pacific/Auckland:20240507T183000
DTEND;TZID=Pacific/Auckland:20240507T200000
DTSTAMP:20260424T035009
CREATED:20240503T032323Z
LAST-MODIFIED:20240503T032323Z
UID:2925-1715106600-1715112000@eastbourne.nz
SUMMARY:Defibrillator Training - Free - WFA
DESCRIPTION:Wellington Free Ambulance Defibrillator Course \nESSC Tuesday 7 May 6:30-8:00PM \nFREE to attend (ESSC will make a donations to WFA) \nEvery week an average of 4-5 people suffer a cardiac event in Wellington/ Wairarapa \nEmail Mel – MANAGER@ESSC.CLUB
URL:https://eastbourne.nz/event/defibrillator-training-free-wfa/
LOCATION:Eastbourne Sports and Services Club\, 48 Tuatoru Street\, Eastbourne\, Lower Hutt 5013
CATEGORIES:Civil Defence / WREMO,Single,Training
ATTACH;FMTTYPE=image/png:https://eastbourne.nz/wp-content/uploads/2024/05/AED-in-box-public__ResizedImage.png
ORGANIZER;CN="ESSC":MAILTO:manager@essc.club
END:VEVENT
END:VCALENDAR