BEGIN:VCALENDAR
VERSION:2.0
PRODID:-//Eastbourne NZ - ECPv6.15.20//NONSGML v1.0//EN
CALSCALE:GREGORIAN
METHOD:PUBLISH
X-WR-CALNAME:Eastbourne NZ
X-ORIGINAL-URL:https://eastbourne.nz
X-WR-CALDESC:Events for Eastbourne NZ
REFRESH-INTERVAL;VALUE=DURATION:PT1H
X-Robots-Tag:noindex
X-PUBLISHED-TTL:PT1H
BEGIN:VTIMEZONE
TZID:Pacific/Auckland
BEGIN:STANDARD
TZOFFSETFROM:+1300
TZOFFSETTO:+1200
TZNAME:NZST
DTSTART:20230401T140000
END:STANDARD
BEGIN:DAYLIGHT
TZOFFSETFROM:+1200
TZOFFSETTO:+1300
TZNAME:NZDT
DTSTART:20230923T140000
END:DAYLIGHT
BEGIN:STANDARD
TZOFFSETFROM:+1300
TZOFFSETTO:+1200
TZNAME:NZST
DTSTART:20240406T140000
END:STANDARD
BEGIN:DAYLIGHT
TZOFFSETFROM:+1200
TZOFFSETTO:+1300
TZNAME:NZDT
DTSTART:20240928T140000
END:DAYLIGHT
BEGIN:STANDARD
TZOFFSETFROM:+1300
TZOFFSETTO:+1200
TZNAME:NZST
DTSTART:20250405T140000
END:STANDARD
BEGIN:DAYLIGHT
TZOFFSETFROM:+1200
TZOFFSETTO:+1300
TZNAME:NZDT
DTSTART:20250927T140000
END:DAYLIGHT
END:VTIMEZONE
BEGIN:VEVENT
DTSTART;TZID=Pacific/Auckland:20240526T180000
DTEND;TZID=Pacific/Auckland:20240526T190000
DTSTAMP:20260424T035052
CREATED:20240513T233109Z
LAST-MODIFIED:20250328T085934Z
UID:2986-1716746400-1716750000@eastbourne.nz
SUMMARY:Emergency Mobile Alert - Nationwide Test
DESCRIPTION:The nationwide test of the Emergency Mobile Alert (EMA) system is happening on Sunday\, 26 May\, between 6-7pm \n\nThe alert will be broadcast from cell towers to about 5 million phone across NZ. As long as your phone is on\, capable\, the software is up-to-date you should receive the alert.\n\n\nEmergency Mobile Alert is an extra channel that can help keep you safe in an emergency. It does not replace other alerting systems or the need to take action after natural warnings.\n\n\nYou should still be prepared for an emergency. If you feel your in danger\, never wait for an official warning. Take immediate action. Find out more about the nationwide test\, https://getready.govt.nz/en/prepared/ema
URL:https://eastbourne.nz/event/emergency-mobile-alert-nationwide-test/
LOCATION:Online
CATEGORIES:Civil Defence / WREMO,Single,Training
ATTACH;FMTTYPE=image/png:https://eastbourne.nz/wp-content/uploads/2022/06/GetreadyGovtNZ.png
END:VEVENT
END:VCALENDAR