BEGIN:VCALENDAR
VERSION:2.0
PRODID:-//Eastbourne NZ - ECPv6.15.20//NONSGML v1.0//EN
CALSCALE:GREGORIAN
METHOD:PUBLISH
X-ORIGINAL-URL:https://eastbourne.nz
X-WR-CALDESC:Events for Eastbourne NZ
REFRESH-INTERVAL;VALUE=DURATION:PT1H
X-Robots-Tag:noindex
X-PUBLISHED-TTL:PT1H
BEGIN:VTIMEZONE
TZID:Pacific/Auckland
BEGIN:STANDARD
TZOFFSETFROM:+1300
TZOFFSETTO:+1200
TZNAME:NZST
DTSTART:20230401T140000
END:STANDARD
BEGIN:DAYLIGHT
TZOFFSETFROM:+1200
TZOFFSETTO:+1300
TZNAME:NZDT
DTSTART:20230923T140000
END:DAYLIGHT
BEGIN:STANDARD
TZOFFSETFROM:+1300
TZOFFSETTO:+1200
TZNAME:NZST
DTSTART:20240406T140000
END:STANDARD
BEGIN:DAYLIGHT
TZOFFSETFROM:+1200
TZOFFSETTO:+1300
TZNAME:NZDT
DTSTART:20240928T140000
END:DAYLIGHT
BEGIN:STANDARD
TZOFFSETFROM:+1300
TZOFFSETTO:+1200
TZNAME:NZST
DTSTART:20250405T140000
END:STANDARD
BEGIN:DAYLIGHT
TZOFFSETFROM:+1200
TZOFFSETTO:+1300
TZNAME:NZDT
DTSTART:20250927T140000
END:DAYLIGHT
END:VTIMEZONE
BEGIN:VEVENT
DTSTART;TZID=Pacific/Auckland:20240618T191500
DTEND;TZID=Pacific/Auckland:20240618T210000
DTSTAMP:20260424T033740
CREATED:20240527T100219Z
LAST-MODIFIED:20240612T225314Z
UID:3015-1718738100-1718744400@eastbourne.nz
SUMMARY:Eastbourne Community Board meeting
DESCRIPTION:Tue 18-Jun-24 7:15 PM – 9:15 PM\n\n\nHere’s the agenda for next Tuesday’s Eastbourne Community Board meeting at 7.15pm\, 18 June at the East Harbour Women’s Club.\n\n\nCome along and hear updates from GWRC and the Tupua Horo Nuku resilience and shared path project team. Or use the public speaking spot to talk for up to 3 minutes about any community matter.\n\n\nhttps://huttcity.infocouncil.biz/…/ECB_18062024_AGN…
URL:https://eastbourne.nz/event/eastbourne-community-board-committee-meeting/
LOCATION:East Harbour Womens Club\, 145 Muritai Road\, Eastbourne\, Lower Hutt\, Wellington\, 5013\, New Zealand
CATEGORIES:Eastbourne Community Board Meeting,Single
ATTACH;FMTTYPE=image/png:https://eastbourne.nz/wp-content/uploads/2022/10/ebcb-banner.png
END:VEVENT
END:VCALENDAR