BEGIN:VCALENDAR
VERSION:2.0
PRODID:-//Eastbourne NZ - ECPv6.15.20//NONSGML v1.0//EN
CALSCALE:GREGORIAN
METHOD:PUBLISH
X-ORIGINAL-URL:https://eastbourne.nz
X-WR-CALDESC:Events for Eastbourne NZ
REFRESH-INTERVAL;VALUE=DURATION:PT1H
X-Robots-Tag:noindex
X-PUBLISHED-TTL:PT1H
BEGIN:VTIMEZONE
TZID:Pacific/Auckland
BEGIN:STANDARD
TZOFFSETFROM:+1300
TZOFFSETTO:+1200
TZNAME:NZST
DTSTART:20240406T140000
END:STANDARD
BEGIN:DAYLIGHT
TZOFFSETFROM:+1200
TZOFFSETTO:+1300
TZNAME:NZDT
DTSTART:20240928T140000
END:DAYLIGHT
BEGIN:STANDARD
TZOFFSETFROM:+1300
TZOFFSETTO:+1200
TZNAME:NZST
DTSTART:20250405T140000
END:STANDARD
BEGIN:DAYLIGHT
TZOFFSETFROM:+1200
TZOFFSETTO:+1300
TZNAME:NZDT
DTSTART:20250927T140000
END:DAYLIGHT
BEGIN:STANDARD
TZOFFSETFROM:+1300
TZOFFSETTO:+1200
TZNAME:NZST
DTSTART:20260404T140000
END:STANDARD
BEGIN:DAYLIGHT
TZOFFSETFROM:+1200
TZOFFSETTO:+1300
TZNAME:NZDT
DTSTART:20260926T140000
END:DAYLIGHT
END:VTIMEZONE
BEGIN:VEVENT
DTSTART;VALUE=DATE:20250616
DTEND;VALUE=DATE:20250712
DTSTAMP:20260422T234309
CREATED:20250610T231946Z
LAST-MODIFIED:20250702T223716Z
UID:4021-1750032000-1752278399@eastbourne.nz
SUMMARY:Community Climate Action Fund (closes July 13)
DESCRIPTION:COMMUNITY CLIMATE ACTION FUND (formerly the Community Engagement Fund)\nCriteria\nThe fund aims to contribute to the city’s carbon reduction goals by funding:\ni. Community-led carbon reduction initiatives\, with a focus on initiatives already identified in the Lower Hutt Climate Pathway\nii. Community engagement initiatives that can demonstrate a contribution to carbon reduction in the way they are delivered (eg waste minimisation). \nTo be eligible for funding:\n• Initiatives/activities must take place within Lower Hutt.\n• Physical assets must not be stored on Council reserve land or road reserve.\n• Any asset purchased over the value of $1\,000 must be added to the organisation’s asset register.\n• Organisations/groups requesting funding must meet specified criteria\, including legal entity status for applications above $10k and the project must align with Council’s Climate Action Pathway.\nThis is a one-off grant\, and any future maintenance of physical assets purchased are the responsibility of the applicant organisations. \nEastbourne Community Board has $2\,171 for further allocation in this round as of May 2025. \nmore information (on this website) \nApplication form\, more information\, and assistance in applying (is available) (Hutt City website)
URL:https://eastbourne.nz/event/community-climate-action-fund/
CATEGORIES:Climate Change Response,Community action,Funding,Grant,Single
ATTACH;FMTTYPE=image/png:https://eastbourne.nz/wp-content/uploads/2022/07/ECBLogoy-e1748555039711.png
END:VEVENT
BEGIN:VEVENT
DTSTART;TZID=Pacific/Auckland:20250702T193000
DTEND;TZID=Pacific/Auckland:20250702T210000
DTSTAMP:20260422T234309
CREATED:20250615T235632Z
LAST-MODIFIED:20250616T010000Z
UID:4036-1751484600-1751490000@eastbourne.nz
SUMMARY:Butterfly Creek Theatre Troupe AGM
DESCRIPTION:The Annual General Meeting of the Troupe will be held on 2 July at 7:30pm in the Muritai School Green Room (entrance at the North end of the hall). \nA new constitution (to align with new rules for Incorporated Society) will be presented and voted upon. A copy of the Draft constitution can be downloaded HERE. \nWe will also appoint officers for the Troupe. It should be a fairly short meeting and then we will have a chance for members to mingle – B.Y.O. drink and nibble.
URL:https://eastbourne.nz/event/butterfly-creek-theatre-troupe-agm/
LOCATION:Muritai School Hall\, 166 Muritai Road\, Eastbourne\, Lower Hutt
CATEGORIES:AGM,Single
ATTACH;FMTTYPE=image/png:https://eastbourne.nz/wp-content/uploads/2023/07/BCTT.png
ORGANIZER;CN="Butterfly Creek Theatre Troupe":MAILTO:bctt.org.nz@gmail.com
END:VEVENT
END:VCALENDAR