BEGIN:VCALENDAR
VERSION:2.0
PRODID:-//Eastbourne NZ - ECPv6.15.20//NONSGML v1.0//EN
CALSCALE:GREGORIAN
METHOD:PUBLISH
X-WR-CALNAME:Eastbourne NZ
X-ORIGINAL-URL:https://eastbourne.nz
X-WR-CALDESC:Events for Eastbourne NZ
REFRESH-INTERVAL;VALUE=DURATION:PT1H
X-Robots-Tag:noindex
X-PUBLISHED-TTL:PT1H
BEGIN:VTIMEZONE
TZID:Pacific/Auckland
BEGIN:STANDARD
TZOFFSETFROM:+1300
TZOFFSETTO:+1200
TZNAME:NZST
DTSTART:20240406T140000
END:STANDARD
BEGIN:DAYLIGHT
TZOFFSETFROM:+1200
TZOFFSETTO:+1300
TZNAME:NZDT
DTSTART:20240928T140000
END:DAYLIGHT
BEGIN:STANDARD
TZOFFSETFROM:+1300
TZOFFSETTO:+1200
TZNAME:NZST
DTSTART:20250405T140000
END:STANDARD
BEGIN:DAYLIGHT
TZOFFSETFROM:+1200
TZOFFSETTO:+1300
TZNAME:NZDT
DTSTART:20250927T140000
END:DAYLIGHT
BEGIN:STANDARD
TZOFFSETFROM:+1300
TZOFFSETTO:+1200
TZNAME:NZST
DTSTART:20260404T140000
END:STANDARD
BEGIN:DAYLIGHT
TZOFFSETFROM:+1200
TZOFFSETTO:+1300
TZNAME:NZDT
DTSTART:20260926T140000
END:DAYLIGHT
END:VTIMEZONE
BEGIN:VEVENT
DTSTART;TZID=Pacific/Auckland:20250720T143000
DTEND;TZID=Pacific/Auckland:20250720T153000
DTSTAMP:20260422T233306
CREATED:20250710T030539Z
LAST-MODIFIED:20250710T084926Z
UID:4116-1753021800-1753025400@eastbourne.nz
SUMMARY:ESSC AGM 2025
DESCRIPTION:We welcome you to attend the upcoming  AGM for the Eastbourne Sports & Services Club on Sunday 20 July at 2.30pm at the ESSC clubrooms. Full details can be found on the noticeboard located in the foyer at the clubrooms or by email received previously\, circulated by your club representatives. \nAttached is the meeting’s agenda and copy of the draft constitution for your reference. Please note\, there have been no material changes to the terms of the original constitution (1997)\, any changes were adapted merely to meet the new legislation requirements being enforced 2026. The ESSC Board would like to acknowledge Neil Gray (ECC) for the countless hours dedicated to producing this draft constitution. \nThe ESSC representatives for 2025/26 are as follows: \nEMRSA      Kevin Togher / Jasmin McSweeney\nERFC         Mark Sliper / Willie Davis\nECC           Neil Gray / Jason Bull\nEFC           Kurt Renner / Adam Edwards\nMCC          Bob Wallens / Llew Kemeys \nOrder of Business \n1. Welcome\n2. Minutes of the AGM – 11 August 2024\n3. Matters Arising\n4. Annual Report by the Chairman\n5. Annual Accounts 2024/25\n6. Acceptance of Draft ESSC Constitution\n7. Confirmation of Directors for the year ending\n30 April 2026\n8. Appointment of Audit Reviewer for the year ending\n30 April 2026\n9. General business \nWe look forward to seeing those of you who are able at the AGM. \nMEL HALFORD \nCLUB MANAGER\nEASTBOURNE SPORTS & SERVICES CLUB INC. \nSOUTH END TUATORU STREET\nP. O. Box 41-058\, EASTBOURNE\nWELLINGTON 5047\, NEW ZEALAND \nP +64 4 562 8563\nM +64 212 053 019\nmanager@essc.club
URL:https://eastbourne.nz/event/essc-agm-2025/
LOCATION:Eastbourne Sports and Services Club\, 48 Tuatoru Street\, Eastbourne\, Lower Hutt 5013
CATEGORIES:AGM,Single
ATTACH;FMTTYPE=image/png:https://eastbourne.nz/wp-content/uploads/2025/07/ESSC.png
ORGANIZER;CN="ESSC":MAILTO:manager@essc.club
END:VEVENT
END:VCALENDAR