BEGIN:VCALENDAR
VERSION:2.0
PRODID:-//Eastbourne NZ - ECPv6.15.20//NONSGML v1.0//EN
CALSCALE:GREGORIAN
METHOD:PUBLISH
X-WR-CALNAME:Eastbourne NZ
X-ORIGINAL-URL:https://eastbourne.nz
X-WR-CALDESC:Events for Eastbourne NZ
REFRESH-INTERVAL;VALUE=DURATION:PT1H
X-Robots-Tag:noindex
X-PUBLISHED-TTL:PT1H
BEGIN:VTIMEZONE
TZID:Pacific/Auckland
BEGIN:STANDARD
TZOFFSETFROM:+1300
TZOFFSETTO:+1200
TZNAME:NZST
DTSTART:20240406T140000
END:STANDARD
BEGIN:DAYLIGHT
TZOFFSETFROM:+1200
TZOFFSETTO:+1300
TZNAME:NZDT
DTSTART:20240928T140000
END:DAYLIGHT
BEGIN:STANDARD
TZOFFSETFROM:+1300
TZOFFSETTO:+1200
TZNAME:NZST
DTSTART:20250405T140000
END:STANDARD
BEGIN:DAYLIGHT
TZOFFSETFROM:+1200
TZOFFSETTO:+1300
TZNAME:NZDT
DTSTART:20250927T140000
END:DAYLIGHT
BEGIN:STANDARD
TZOFFSETFROM:+1300
TZOFFSETTO:+1200
TZNAME:NZST
DTSTART:20260404T140000
END:STANDARD
BEGIN:DAYLIGHT
TZOFFSETFROM:+1200
TZOFFSETTO:+1300
TZNAME:NZDT
DTSTART:20260926T140000
END:DAYLIGHT
END:VTIMEZONE
BEGIN:VEVENT
DTSTART;VALUE=DATE:20250728
DTEND;VALUE=DATE:20250730
DTSTAMP:20260422T233400
CREATED:20250723T033535Z
LAST-MODIFIED:20250723T033824Z
UID:4139-1753660800-1753833599@eastbourne.nz
SUMMARY:Targeted Weed Control: CL Bishop Park Bird Protection Area
DESCRIPTION:Contractors will be returning to the dunes in front of CL Bishop Park in July 2025 for\nanother round of targeted weed control to ensure the continued success of the native\nplants that support dune restoration and the Bird Protection Area.\nWeather permitting\, the work is scheduled to commence from Monday 28 July 2025.\nFor further details\, please refer to the following page.\nAbout the CL Bishop Bird Protection Area\nAs part of the consent conditions for the Tupua Horo Nuku project\, Bird Protection areas\nmust be established at Whiorau Reserve\, CL Bishop Park\, and HW Shortt Park.\nThese areas serve as nesting habitats for kororā (little penguins)\, protecting the nesting\nsites of tōrea pango (variable oystercatchers) and other indigenous seabird species\npotentially affected during and after construction activities.\nMore information can be found on the Hutt City Council website: hutt.city/tupuahoronuku\nor please email: tupuahoronuku@huttcity.govt.nz
URL:https://eastbourne.nz/event/targeted-weed-control-cl-bishop-park-bird-protection-area/
LOCATION:C L Bishop Park\, Marine Parade\, Eastbourne\, Lower Hutt\, 5013\, New Zealand
CATEGORIES:HCC,Single
ATTACH;FMTTYPE=image/png:https://eastbourne.nz/wp-content/uploads/Icons/HCClogo.png
END:VEVENT
END:VCALENDAR