BEGIN:VCALENDAR
VERSION:2.0
PRODID:-//Eastbourne NZ - ECPv6.15.20//NONSGML v1.0//EN
CALSCALE:GREGORIAN
METHOD:PUBLISH
X-ORIGINAL-URL:https://eastbourne.nz
X-WR-CALDESC:Events for Eastbourne NZ
REFRESH-INTERVAL;VALUE=DURATION:PT1H
X-Robots-Tag:noindex
X-PUBLISHED-TTL:PT1H
BEGIN:VTIMEZONE
TZID:Pacific/Auckland
BEGIN:STANDARD
TZOFFSETFROM:+1300
TZOFFSETTO:+1200
TZNAME:NZST
DTSTART:20240406T140000
END:STANDARD
BEGIN:DAYLIGHT
TZOFFSETFROM:+1200
TZOFFSETTO:+1300
TZNAME:NZDT
DTSTART:20240928T140000
END:DAYLIGHT
BEGIN:STANDARD
TZOFFSETFROM:+1300
TZOFFSETTO:+1200
TZNAME:NZST
DTSTART:20250405T140000
END:STANDARD
BEGIN:DAYLIGHT
TZOFFSETFROM:+1200
TZOFFSETTO:+1300
TZNAME:NZDT
DTSTART:20250927T140000
END:DAYLIGHT
BEGIN:STANDARD
TZOFFSETFROM:+1300
TZOFFSETTO:+1200
TZNAME:NZST
DTSTART:20260404T140000
END:STANDARD
BEGIN:DAYLIGHT
TZOFFSETFROM:+1200
TZOFFSETTO:+1300
TZNAME:NZDT
DTSTART:20260926T140000
END:DAYLIGHT
END:VTIMEZONE
BEGIN:VEVENT
DTSTART;VALUE=DATE:20251115
DTEND;VALUE=DATE:20251116
DTSTAMP:20260424T033810
CREATED:20250604T043005Z
LAST-MODIFIED:20251001T024912Z
UID:4004-1763164800-1763251199@eastbourne.nz
SUMMARY:Lions Garage Sale
DESCRIPTION:15 November – Lions Garage Sale and Auction\, San Antonio School\, 78 Oroua St (times to be confirmed)\nA great selection of items ready for a new owner\, with proceeds going back into the Lower Hutt community. Be kind to the planet – re-use and refurbish and give quality items another chance.\nDonations of saleable items are now being accepted. Text 027 488 5602 or email EastbourneLionsNZ@gmail.com
URL:https://eastbourne.nz/event/lions-garage-sale/
LOCATION:San Antonio School\, 78 Oroua Street\, Eastbourne\,\, Lower Hutt\, 5013\, New Zealand
CATEGORIES:Auction,Fund Raising,Single
ATTACH;FMTTYPE=image/png:https://eastbourne.nz/wp-content/uploads/2022/09/lionslogo.png
END:VEVENT
BEGIN:VEVENT
DTSTART;VALUE=DATE:20251115
DTEND;VALUE=DATE:20251116
DTSTAMP:20260424T033810
CREATED:20251025T013230Z
LAST-MODIFIED:20251025T013230Z
UID:4381-1763164800-1763251199@eastbourne.nz
SUMMARY:Eastbourne Pool opens
DESCRIPTION:Hey everyone\, thought I’d make a quick introduction. I’m Alex and I’ll be Team Leader at Eastbourne Pool this season!\n\n\nRegistrations for Icebergs are now open – please make sure to sign up so we can get enough numbers for it to run! There will be flyers at Eastbourne Library and at the pools\, or you can download the registration form below. Completed forms can be dropped off at Te Ngaengae or Huia Pool; or you can email them to [tengaengaepool@huttcity.govt.nz](mailto:tengaengaepool@huttcity.govt.nz). These need to be handed in by the 7th November at the absolute latest!\n\n\nThe pool is opening on Saturday 15th November – save the date! We have some fun things planned to kick off the season.\n\n\nWe’re really excited to be back this year and would love to see even more people at the pool than last season. Thanks to our amazing volunteers\, we’re planning to stay open for the full season until 8 March. We would still appreciate a few more people\, so if you’re interested in volunteering or have any questions about the role\, feel free to email me at alex.irvine@huttcity.govt.nz.\n\n\nIf you’d like to make any bookings for the season or have any suggestions or queries\, please get in touch at [eastbourne.pool@huttcity.govt.nz](mailto:eastbourne.pool@huttcity.govt.nz). (Please don’t message me directly on Facebook ).\n\n\nLooking forward to a great season and seeing you all at the pool!
URL:https://eastbourne.nz/event/eastbourne-pool-opens/
LOCATION:Eastbourne Pool\, Marine Parade\, Eastborne\, Lower Hutt\, 5013\, New Zealand
CATEGORIES:Recreation / play,Single
ATTACH;FMTTYPE=image/png:https://eastbourne.nz/wp-content/uploads/Icons/HCClogo.png
END:VEVENT
BEGIN:VEVENT
DTSTART;VALUE=DATE:20251115
DTEND;VALUE=DATE:20251116
DTSTAMP:20260424T033810
CREATED:20260114T015227Z
LAST-MODIFIED:20260114T015227Z
UID:4525-1763164800-1763251199@eastbourne.nz
SUMMARY:Wellington Anniversary
DESCRIPTION:Monday is a public holiday in Wellington
URL:https://eastbourne.nz/event/eastbourne-pool-opens-2/
LOCATION:Eastbourne Pool\, Marine Parade\, Eastborne\, Lower Hutt\, 5013\, New Zealand
CATEGORIES:Anniversary,Single
ATTACH;FMTTYPE=image/png:https://eastbourne.nz/wp-content/uploads/Icons/HCClogo.png
END:VEVENT
BEGIN:VEVENT
DTSTART;TZID=Pacific/Auckland:20251115T123000
DTEND;TZID=Pacific/Auckland:20251115T140000
DTSTAMP:20260424T033810
CREATED:20251019T010855Z
LAST-MODIFIED:20251019T010855Z
UID:4361-1763209800-1763215200@eastbourne.nz
SUMMARY:Gollans Valley - Historical Society of Eastbourne
DESCRIPTION:Find out more about Gollans Valley \nThe mysterious stretch of land with a fascinating past\, at the end of the No Entry road at Burdan’s Gate \n12:30 pm\, Saturday 15th November 2025\,\nEastbourne Community Hub / Library \nLocal historian Ali Carew presents an illustrated talk on the history of the latest addition to Wellington’s regional park system\, right at our back door. \nAll welcome. Further info from eastbournehistorynz@gmail.com
URL:https://eastbourne.nz/event/gollans-valley-historical-society-of-eastbourne-2/
LOCATION:Eastbourne Community Hub/Library\, 38 Rimu Street\, Eastbourne\, Lower Hutt\, 5013\, New Zealand
CATEGORIES:Single
ATTACH;FMTTYPE=image/png:https://eastbourne.nz/wp-content/uploads/2022/09/HSENewsletter.png
END:VEVENT
END:VCALENDAR