BEGIN:VCALENDAR
VERSION:2.0
PRODID:-//Eastbourne NZ - ECPv6.15.20//NONSGML v1.0//EN
CALSCALE:GREGORIAN
METHOD:PUBLISH
X-WR-CALNAME:Eastbourne NZ
X-ORIGINAL-URL:https://eastbourne.nz
X-WR-CALDESC:Events for Eastbourne NZ
REFRESH-INTERVAL;VALUE=DURATION:PT1H
X-Robots-Tag:noindex
X-PUBLISHED-TTL:PT1H
BEGIN:VTIMEZONE
TZID:Pacific/Auckland
BEGIN:STANDARD
TZOFFSETFROM:+1300
TZOFFSETTO:+1200
TZNAME:NZST
DTSTART:20240406T140000
END:STANDARD
BEGIN:DAYLIGHT
TZOFFSETFROM:+1200
TZOFFSETTO:+1300
TZNAME:NZDT
DTSTART:20240928T140000
END:DAYLIGHT
BEGIN:STANDARD
TZOFFSETFROM:+1300
TZOFFSETTO:+1200
TZNAME:NZST
DTSTART:20250405T140000
END:STANDARD
BEGIN:DAYLIGHT
TZOFFSETFROM:+1200
TZOFFSETTO:+1300
TZNAME:NZDT
DTSTART:20250927T140000
END:DAYLIGHT
BEGIN:STANDARD
TZOFFSETFROM:+1300
TZOFFSETTO:+1200
TZNAME:NZST
DTSTART:20260404T140000
END:STANDARD
BEGIN:DAYLIGHT
TZOFFSETFROM:+1200
TZOFFSETTO:+1300
TZNAME:NZDT
DTSTART:20260926T140000
END:DAYLIGHT
END:VTIMEZONE
BEGIN:VEVENT
DTSTART;VALUE=DATE:20250505
DTEND;VALUE=DATE:20250614
DTSTAMP:20260422T152053
CREATED:20250423T005252Z
LAST-MODIFIED:20250423T040122Z
UID:3899-1746403200-1749859199@eastbourne.nz
SUMMARY:Professional Deer Culling Northern Forest East Harbour Regional Park: 5 May - 13 June
DESCRIPTION:Greater Wellington Regional Council contracted\, professional deer cullers will be hunting in East Harbour Regional Park\, Northern Forest between 5th May & 13th June. Hunters will be only hunting when weather conditions are conducive to hunting. There will be 16 days of actual hunting in the period. No hunting will be undertaken on weekends\, public holidays or school holidays. Hunting will on occasion be occurring at night. The EHRP website will be updated daily as the hunter communicates his plans to Jo or Zane at GWRC. Please feel free to text Jo on 0274673076 if you are unsure.  \nPlease report deer\, pig or goat sightings – include date of sighting\, species\, number\, specific location\, activity and photos are always useful – contact Jo Greenman at 0274673076\, (text is good) or jo.greenman@gw.govt.nz  \nThere is also an opportunity to undertake culling on private property. Written permission is required for the hunter to cross onto private land. The contract allows private hunting under the GWRC contract on a cost recovery basis. Cost will be $80 per hour of hunting time with a minimum of 3 hours. There is no guarantee of shooting an animal. Contact Jo Greenman – to discuss culling on private land.  
URL:https://eastbourne.nz/event/professional-deer-culling-northern-forest-east-harbour-regional-park/
LOCATION:East Harbour Regional Park\, Lower Hutt\, New Zealand
CATEGORIES:GWRC,Single
ATTACH;FMTTYPE=image/png:https://eastbourne.nz/wp-content/uploads/Icons/GWRClogo.png
END:VEVENT
BEGIN:VEVENT
DTSTART;TZID=Pacific/Auckland:20250614T090000
DTEND;TZID=Pacific/Auckland:20250614T150000
DTSTAMP:20260422T152053
CREATED:20250605T021409Z
LAST-MODIFIED:20250605T021705Z
UID:4013-1749891600-1749913200@eastbourne.nz
SUMMARY:Parangarahu Lakes  Community Planting Day
DESCRIPTION:Join us for a day of planting at these nationally significant lakes. \nThe Parangarahu Lakes are important to the surrounding environment and are home to native taonga. This includes a range of wetland plants\, īnanga (galaxias maculatus)\, manu (birds)\, and our native freshwater mussel\, the kākahi. \nThis planting day is perfect for those who enjoy a bit of physical activity\, as you’ll be carrying plants and digging holes. \n What to bring/wear:\n• Sturdy boots or gumboots\n• Long sleeves and pants\, and a waterproof jacket are essential. Layering and wearing a hat or beanie is a good way to stay warm. This site can be very exposed\, so it is a good idea to bring a spare change of clothes.\n• Feel free to bring your own favourite spade and gloves.\n• Bring your own water bottle\, and snacks. \n We provide:\n• FREE transport from Burdan’s Gate\, Eastbourne\, along the rugged coast to the Lower Pencarrow Lighthouse at the harbour entrance and onto the entrance of the first lake. Please book your seat as we have limited numbers. No private cars will have access.\n• Plants and planting tools\, gloves.\n• An experienced team leader\, health and safety management and training. \nBooking is essential to secure your seat on the bus to the lakes \nRegister here  \n\n\nGreater Wellington — Parangarahu Lakes Community Planting Day https://www.gw.govt.nz/your-region/events-and-meetings/parangarahu-co/
URL:https://eastbourne.nz/event/parangarahu-lakes-community-planting-day-2/
LOCATION:Parangarahu Lakes\, Pencarrow Head\, Lower Hutt\, 5013\, New Zealand
CATEGORIES:Climate Change Response,Community action,GWRC,Single
ATTACH;FMTTYPE=image/png:https://eastbourne.nz/wp-content/uploads/Icons/GWRClogo.png
END:VEVENT
END:VCALENDAR