BEGIN:VCALENDAR
VERSION:2.0
PRODID:-//Eastbourne NZ - ECPv6.15.20//NONSGML v1.0//EN
CALSCALE:GREGORIAN
METHOD:PUBLISH
X-WR-CALNAME:Eastbourne NZ
X-ORIGINAL-URL:https://eastbourne.nz
X-WR-CALDESC:Events for Eastbourne NZ
REFRESH-INTERVAL;VALUE=DURATION:PT1H
X-Robots-Tag:noindex
X-PUBLISHED-TTL:PT1H
BEGIN:VTIMEZONE
TZID:Pacific/Auckland
BEGIN:STANDARD
TZOFFSETFROM:+1300
TZOFFSETTO:+1200
TZNAME:NZST
DTSTART:20240406T140000
END:STANDARD
BEGIN:DAYLIGHT
TZOFFSETFROM:+1200
TZOFFSETTO:+1300
TZNAME:NZDT
DTSTART:20240928T140000
END:DAYLIGHT
BEGIN:STANDARD
TZOFFSETFROM:+1300
TZOFFSETTO:+1200
TZNAME:NZST
DTSTART:20250405T140000
END:STANDARD
BEGIN:DAYLIGHT
TZOFFSETFROM:+1200
TZOFFSETTO:+1300
TZNAME:NZDT
DTSTART:20250927T140000
END:DAYLIGHT
BEGIN:STANDARD
TZOFFSETFROM:+1300
TZOFFSETTO:+1200
TZNAME:NZST
DTSTART:20260404T140000
END:STANDARD
BEGIN:DAYLIGHT
TZOFFSETFROM:+1200
TZOFFSETTO:+1300
TZNAME:NZDT
DTSTART:20260926T140000
END:DAYLIGHT
END:VTIMEZONE
BEGIN:VEVENT
DTSTART;VALUE=DATE:20250911
DTEND;VALUE=DATE:20250920
DTSTAMP:20260423T094844
CREATED:20250901T220921Z
LAST-MODIFIED:20250901T222723Z
UID:4257-1757548800-1758326399@eastbourne.nz
SUMMARY:Lions Recycled Reading : 11 -19 October (9am-3pm)
DESCRIPTION:‘Recycled Reading’ – great range of books\, games\, and some vinyl ready for another owner.\nNine day sale – Sat 11 Oct through to Sun 19 Oct. 9am-3pm each day.\nChange of venue to San Antonio School\, Oroua St\, Eastbourne. EFTPOS available\, BYO bags.\n\nDonation boxes in Eastbourne and Petone library foyers; or for pick up/drop off of larger quantities\, text Gavin 027 488 5602 or John 022 102 4696
URL:https://eastbourne.nz/event/lions-recycled-reading-11-19-october-9am-3pm/
LOCATION:San Antonio School\, 78 Oroua Street\, Eastbourne\,\, Lower Hutt\, 5013\, New Zealand
CATEGORIES:Fund Raising,Market,Single
ATTACH;FMTTYPE=image/png:https://eastbourne.nz/wp-content/uploads/2022/09/lionslogo.png
END:VEVENT
END:VCALENDAR