BEGIN:VCALENDAR
VERSION:2.0
PRODID:-//Eastbourne NZ - ECPv6.15.20//NONSGML v1.0//EN
CALSCALE:GREGORIAN
METHOD:PUBLISH
X-WR-CALNAME:Eastbourne NZ
X-ORIGINAL-URL:https://eastbourne.nz
X-WR-CALDESC:Events for Eastbourne NZ
REFRESH-INTERVAL;VALUE=DURATION:PT1H
X-Robots-Tag:noindex
X-PUBLISHED-TTL:PT1H
BEGIN:VTIMEZONE
TZID:Pacific/Auckland
BEGIN:STANDARD
TZOFFSETFROM:+1300
TZOFFSETTO:+1200
TZNAME:NZST
DTSTART:20240406T140000
END:STANDARD
BEGIN:DAYLIGHT
TZOFFSETFROM:+1200
TZOFFSETTO:+1300
TZNAME:NZDT
DTSTART:20240928T140000
END:DAYLIGHT
BEGIN:STANDARD
TZOFFSETFROM:+1300
TZOFFSETTO:+1200
TZNAME:NZST
DTSTART:20250405T140000
END:STANDARD
BEGIN:DAYLIGHT
TZOFFSETFROM:+1200
TZOFFSETTO:+1300
TZNAME:NZDT
DTSTART:20250927T140000
END:DAYLIGHT
BEGIN:STANDARD
TZOFFSETFROM:+1300
TZOFFSETTO:+1200
TZNAME:NZST
DTSTART:20260404T140000
END:STANDARD
BEGIN:DAYLIGHT
TZOFFSETFROM:+1200
TZOFFSETTO:+1300
TZNAME:NZDT
DTSTART:20260926T140000
END:DAYLIGHT
END:VTIMEZONE
BEGIN:VEVENT
DTSTART;TZID=Pacific/Auckland:20251121T120000
DTEND;TZID=Pacific/Auckland:20251121T150000
DTSTAMP:20260425T033740
CREATED:20251109T005953Z
LAST-MODIFIED:20251109T005953Z
UID:4419-1763726400-1763737200@eastbourne.nz
SUMMARY:Muritai Make-it Market
DESCRIPTION:The Muritai ‘Make-It” Market is coming up! It will be held in the afternoon on Friday 21st November. (Postponement day is Thursday 27th November)\nStart collecting up $1 and $2 coins for your children.\n\n\nIt is helpful for them to have a wallet and a bag to store all their purchases on this day.\n\n\nGet ready for a great afternoon!
URL:https://eastbourne.nz/event/muritai-make-it-market/
LOCATION:Muritai School Yard
CATEGORIES:Fund Raising,Market,Single
ATTACH;FMTTYPE=image/png:https://eastbourne.nz/wp-content/uploads/2024/01/MuritaiSchool.png
ORGANIZER;CN="Muritai School":MAILTO:125years@muritai.school.nz
END:VEVENT
END:VCALENDAR