BEGIN:VCALENDAR
VERSION:2.0
PRODID:-//Eastbourne NZ - ECPv6.15.20//NONSGML v1.0//EN
CALSCALE:GREGORIAN
METHOD:PUBLISH
X-ORIGINAL-URL:https://eastbourne.nz
X-WR-CALDESC:Events for Eastbourne NZ
REFRESH-INTERVAL;VALUE=DURATION:PT1H
X-Robots-Tag:noindex
X-PUBLISHED-TTL:PT1H
BEGIN:VTIMEZONE
TZID:Pacific/Auckland
BEGIN:STANDARD
TZOFFSETFROM:+1300
TZOFFSETTO:+1200
TZNAME:NZST
DTSTART:20230401T140000
END:STANDARD
BEGIN:DAYLIGHT
TZOFFSETFROM:+1200
TZOFFSETTO:+1300
TZNAME:NZDT
DTSTART:20230923T140000
END:DAYLIGHT
BEGIN:STANDARD
TZOFFSETFROM:+1300
TZOFFSETTO:+1200
TZNAME:NZST
DTSTART:20240406T140000
END:STANDARD
BEGIN:DAYLIGHT
TZOFFSETFROM:+1200
TZOFFSETTO:+1300
TZNAME:NZDT
DTSTART:20240928T140000
END:DAYLIGHT
BEGIN:STANDARD
TZOFFSETFROM:+1300
TZOFFSETTO:+1200
TZNAME:NZST
DTSTART:20250405T140000
END:STANDARD
BEGIN:DAYLIGHT
TZOFFSETFROM:+1200
TZOFFSETTO:+1300
TZNAME:NZDT
DTSTART:20250927T140000
END:DAYLIGHT
END:VTIMEZONE
BEGIN:VEVENT
DTSTART;TZID=Pacific/Auckland:20241024T093000
DTEND;TZID=Pacific/Auckland:20241024T093000
DTSTAMP:20260424T113417
CREATED:20240724T224807Z
LAST-MODIFIED:20240724T224841Z
UID:3183-1729762200-1729762200@eastbourne.nz
SUMMARY:SHAKE-OUT Earthquake and Tsunami Drill
DESCRIPTION:New Zealand ShakeOut\, our national earthquake drill and tsunami hīkoi\, is taking place on Thursday 24 October 2024 at 9.30am. \nSign up again this year to Drop\, Cover and Hold with the rest of the country and be in to win some great prizes! \n\n\n\nSign up for ShakeOut\n\n\n\n\n\n\n\nSign up to win!\n\n\n\n\n\nBy signing up to ShakeOut 2024 you could be in to win an awesome prize! \nEvery organisation or school that registers goes in the draw to win a Civil Defence wheelie bin. Bins will be delivered and stocked with a range of helpful emergency items to help keep people safe during an emergency. \nIndividuals and families will go in the draw to win a personal grab bag. Bags will be delivered and stocked with items to keep you safe during an emergency. \nSign up for ShakeOut \nBefore the drill \n\n\n\n\n\n\n\n\n\n\nKnow your tsunami evacuation zone. Make plans for a tsunami hīkoi if you are in a coastal area.\nLearn about the earthquake and tsunami risk in your area and other parts of New Zealand.\nDownload and share our ShakeOut posters and resources. Remind yourself and others what to do in an earthquake and tsunami.
URL:https://eastbourne.nz/event/shake-out-2024/
CATEGORIES:Civil Defence / WREMO,Community action,Single,Training
ATTACH;FMTTYPE=image/png:https://eastbourne.nz/wp-content/uploads/2023/02/EB-WREMObanner.png
END:VEVENT
END:VCALENDAR