BEGIN:VCALENDAR
VERSION:2.0
PRODID:-//Eastbourne NZ - ECPv6.15.20//NONSGML v1.0//EN
CALSCALE:GREGORIAN
METHOD:PUBLISH
X-ORIGINAL-URL:https://eastbourne.nz
X-WR-CALDESC:Events for Eastbourne NZ
REFRESH-INTERVAL;VALUE=DURATION:PT1H
X-Robots-Tag:noindex
X-PUBLISHED-TTL:PT1H
BEGIN:VTIMEZONE
TZID:Pacific/Auckland
BEGIN:STANDARD
TZOFFSETFROM:+1300
TZOFFSETTO:+1200
TZNAME:NZST
DTSTART:20260404T140000
END:STANDARD
BEGIN:DAYLIGHT
TZOFFSETFROM:+1200
TZOFFSETTO:+1300
TZNAME:NZDT
DTSTART:20260926T140000
END:DAYLIGHT
BEGIN:STANDARD
TZOFFSETFROM:+1300
TZOFFSETTO:+1200
TZNAME:NZST
DTSTART:20270403T140000
END:STANDARD
BEGIN:DAYLIGHT
TZOFFSETFROM:+1200
TZOFFSETTO:+1300
TZNAME:NZDT
DTSTART:20270925T140000
END:DAYLIGHT
BEGIN:STANDARD
TZOFFSETFROM:+1300
TZOFFSETTO:+1200
TZNAME:NZST
DTSTART:20280401T140000
END:STANDARD
BEGIN:DAYLIGHT
TZOFFSETFROM:+1200
TZOFFSETTO:+1300
TZNAME:NZDT
DTSTART:20280923T140000
END:DAYLIGHT
END:VTIMEZONE
BEGIN:VEVENT
DTSTART;TZID=Pacific/Auckland:20270130T080000
DTEND;TZID=Pacific/Auckland:20270130T113000
DTSTAMP:20260426T142431
CREATED:20221018T211317Z
LAST-MODIFIED:20260409T045847Z
UID:4602-1801296000-1801308600@eastbourne.nz
SUMMARY:Monthly Skip Bin (Eastbourne Lions)
DESCRIPTION:(Note\, no collection in December) \nSimple and affordable rubbish disposal is available monthly at our skip. We are trialling a new e-waste collection system over spring and summer. Payment in cash only.\nOpen on the last Saturday of each month\, from 8:00 am to 11:30 am. We’ll be there to help you unload! \nTypes of rubbish and charges are here. \nEmail: EastbourneLionsNZ@gmail.com
URL:https://eastbourne.nz/event/monthly-skip-bin-eastbourne-lions/2027-01-30/
LOCATION:Burdan’s Gate
CATEGORIES:Waste collection
ATTACH;FMTTYPE=image/png:https://eastbourne.nz/wp-content/uploads/2022/10/lionsbin.png
END:VEVENT
BEGIN:VEVENT
DTSTART;TZID=Pacific/Auckland:20270201T080000
DTEND;TZID=Pacific/Auckland:20270201T170000
DTSTAMP:20260426T142431
CREATED:20220728T021706Z
LAST-MODIFIED:20220728T021706Z
UID:4603-1801468800-1801501200@eastbourne.nz
SUMMARY:Waste collection - Red (general)\, Yellow (paper/plastics/cans) & Green (organic/garden)
DESCRIPTION:Your rubbish bin / ipupara \nThis is your wheelie bin with the red lid\, and it’s just for rubbish. \nWhen green waste goes to landfill it creates methane\, a greenhouse gas much more potent than carbon dioxide.\nInstead of putting it in your red bin\, consider composting or using our green waste collection.\nDid you know? I get collected weekly. \n  \nYour green (garden) waste bin / ipupara tupu \nYour green bin is for garden waste only. What can you put in this bin? \nYES \n\nGrass clippings\nPlant cuttings\nNO\nRubbish\nConcrete or stone\nNappies\nFood waste\n\nTip: If you don’t have a green waste bin\, or you have large quantities of green waste\, you can take it to the Silverstream transfer station. If you have compost waste\, here are some options. \n  \nYour recycling bin with the yellow lid / ipu hangarua \nThis is your wheelie bin with the yellow lid\, and it’s just for rubbish. \nI get collected on yellow weeks. When incorrect items end up in the wrong bin\, they contaminate the recycling / ipu hangarua\, which can mean the whole truckload ends up going to landfill. That’s why we need to make sure the only thing that goes in our yellow bins is the stuff that’s too good to waste. \n  \nWhat can be put in the Yellow bin? \nYES \n\nPaper and cardboard\nTins and cans\nPlastic containers marked with thes esymbols\, often embossed on bottom of item\nPlastic symbols 1\,2\,5\n\nNO \n\nGlass\nBatteries\nNappies\nDrink cartons / Tetrapak\nPolystyrene\, clothes hangers and toys\nSoft plastics\, cling film and strapping\n\nNote: Many of these non recyclable materials can be recycled through other channels – some options are listed here.
URL:https://eastbourne.nz/event/waste-collection-red-general-yellow-paper-plastics-green-organic-garden/2027-02-01/
CATEGORIES:Waste collection
ATTACH;FMTTYPE=image/png:https://eastbourne.nz/wp-content/uploads/2022/07/RECYCLING-RYG.png
END:VEVENT
BEGIN:VEVENT
DTSTART;VALUE=DATE:20270208
DTEND;VALUE=DATE:20270209
DTSTAMP:20260426T142431
CREATED:20220728T015426Z
LAST-MODIFIED:20220728T015426Z
UID:4608-1802044800-1802131199@eastbourne.nz
SUMMARY:Waste collection: Red (general) & Blue (glass)
DESCRIPTION:Non recyclable rubbish\nYour rubbish bin / ipupara \nThis is your wheelie bin with the red lid\, and it’s just for rubbish. \nWhen green waste goes to landfill it creates methane\, a greenhouse gas much more potent than carbon dioxide.\nInstead of putting it in your red bin\, consider composting or using our green waste collection.\nDid you know? I get collected weekly. \n  \nYour glass recycling crate / pouaka kara- he \nThis is your blue open-top crate\, which is just for glass \nYES \n\nGlass bottles\nGlass jars\n\nRemember: Rinse bottles and jars to make sure they’re clean. \nNO \n\nLids\nTableware and Pyrex\nBroken glass\nLight bulbs\nMirrors or window glass\n\nTip: One person’s waste is another’s treasure. Keep an eye out on noticeboards and social media for opportunities to save useable items from going to landfill.
URL:https://eastbourne.nz/event/waste-collection-red-general-and-blue-glass/2027-02-08/
CATEGORIES:Waste collection
ATTACH;FMTTYPE=image/png:https://eastbourne.nz/wp-content/uploads/2022/07/RECYCLING-RB.png
END:VEVENT
BEGIN:VEVENT
DTSTART;VALUE=DATE:20270215
DTEND;VALUE=DATE:20270216
DTSTAMP:20260426T142431
CREATED:20220728T021144Z
LAST-MODIFIED:20220728T021144Z
UID:4625-1802649600-1802735999@eastbourne.nz
SUMMARY:Waste collection: Red (general) & Yellow (paper/plastics/cans)
DESCRIPTION:Non recyclable rubbish\nYour rubbish bin / ipupara \nThis is your wheelie bin with the red lid\, and it’s just for rubbish. \nWhen green waste goes to landfill it creates methane\, a greenhouse gas much more potent than carbon dioxide.\nInstead of putting it in your red bin\, consider composting or using our green waste collection.\nDid you know? I get collected weekly. \n  \n  \nPaper & plastics\nYour recycling bin with the yellow lid / ipu hangarua \nThis is your wheelie bin with the yellow lid\, and it’s just for rubbish. \nI get collected on yellow weeks. When incorrect items end up in the wrong bin\, they contaminate the recycling / ipu hangarua\, which can mean the whole truckload ends up going to landfill. That’s why we need to make sure the only thing that goes in our yellow bins is the stuff that’s too good to waste. \n  \nWhat can be put in the Yellow bin? \nYES \n\nPaper and cardboard\nTins and cans\nPlastic containers marked with these symbols\, often embossed on bottom of item\nPlastic symbols 1\,2\,5\n\nNO \n\nGlass\nBatteries\nNappies\nDrink cartons / Tetrapak\nPolystyrene\, clothes hangers and toys\nSoft plastics\, cling film and strapping\n\nNote: Many of these non recyclable materials can be recycled through other channels – some options are listed here.
URL:https://eastbourne.nz/event/waste-collection-red-general-yellow-paper-plastics/2027-02-15/
CATEGORIES:Waste collection
ATTACH;FMTTYPE=image/png:https://eastbourne.nz/wp-content/uploads/2022/07/RECYCLING-RY.png
END:VEVENT
BEGIN:VEVENT
DTSTART;VALUE=DATE:20270222
DTEND;VALUE=DATE:20270223
DTSTAMP:20260426T142431
CREATED:20220728T015426Z
LAST-MODIFIED:20220728T015426Z
UID:4654-1803254400-1803340799@eastbourne.nz
SUMMARY:Waste collection: Red (general) & Blue (glass)
DESCRIPTION:Non recyclable rubbish\nYour rubbish bin / ipupara \nThis is your wheelie bin with the red lid\, and it’s just for rubbish. \nWhen green waste goes to landfill it creates methane\, a greenhouse gas much more potent than carbon dioxide.\nInstead of putting it in your red bin\, consider composting or using our green waste collection.\nDid you know? I get collected weekly. \n  \nYour glass recycling crate / pouaka kara- he \nThis is your blue open-top crate\, which is just for glass \nYES \n\nGlass bottles\nGlass jars\n\nRemember: Rinse bottles and jars to make sure they’re clean. \nNO \n\nLids\nTableware and Pyrex\nBroken glass\nLight bulbs\nMirrors or window glass\n\nTip: One person’s waste is another’s treasure. Keep an eye out on noticeboards and social media for opportunities to save useable items from going to landfill.
URL:https://eastbourne.nz/event/waste-collection-red-general-and-blue-glass/2027-02-22/
CATEGORIES:Waste collection
ATTACH;FMTTYPE=image/png:https://eastbourne.nz/wp-content/uploads/2022/07/RECYCLING-RB.png
END:VEVENT
BEGIN:VEVENT
DTSTART;TZID=Pacific/Auckland:20270227T080000
DTEND;TZID=Pacific/Auckland:20270227T113000
DTSTAMP:20260426T142431
CREATED:20221018T211317Z
LAST-MODIFIED:20260409T045847Z
UID:4672-1803715200-1803727800@eastbourne.nz
SUMMARY:Monthly Skip Bin (Eastbourne Lions)
DESCRIPTION:(Note\, no collection in December) \nSimple and affordable rubbish disposal is available monthly at our skip. We are trialling a new e-waste collection system over spring and summer. Payment in cash only.\nOpen on the last Saturday of each month\, from 8:00 am to 11:30 am. We’ll be there to help you unload! \nTypes of rubbish and charges are here. \nEmail: EastbourneLionsNZ@gmail.com
URL:https://eastbourne.nz/event/monthly-skip-bin-eastbourne-lions/2027-02-27/
LOCATION:Burdan’s Gate
CATEGORIES:Waste collection
ATTACH;FMTTYPE=image/png:https://eastbourne.nz/wp-content/uploads/2022/10/lionsbin.png
END:VEVENT
BEGIN:VEVENT
DTSTART;TZID=Pacific/Auckland:20270301T080000
DTEND;TZID=Pacific/Auckland:20270301T170000
DTSTAMP:20260426T142431
CREATED:20220728T021706Z
LAST-MODIFIED:20220728T021706Z
UID:4677-1803888000-1803920400@eastbourne.nz
SUMMARY:Waste collection - Red (general)\, Yellow (paper/plastics/cans) & Green (organic/garden)
DESCRIPTION:Your rubbish bin / ipupara \nThis is your wheelie bin with the red lid\, and it’s just for rubbish. \nWhen green waste goes to landfill it creates methane\, a greenhouse gas much more potent than carbon dioxide.\nInstead of putting it in your red bin\, consider composting or using our green waste collection.\nDid you know? I get collected weekly. \n  \nYour green (garden) waste bin / ipupara tupu \nYour green bin is for garden waste only. What can you put in this bin? \nYES \n\nGrass clippings\nPlant cuttings\nNO\nRubbish\nConcrete or stone\nNappies\nFood waste\n\nTip: If you don’t have a green waste bin\, or you have large quantities of green waste\, you can take it to the Silverstream transfer station. If you have compost waste\, here are some options. \n  \nYour recycling bin with the yellow lid / ipu hangarua \nThis is your wheelie bin with the yellow lid\, and it’s just for rubbish. \nI get collected on yellow weeks. When incorrect items end up in the wrong bin\, they contaminate the recycling / ipu hangarua\, which can mean the whole truckload ends up going to landfill. That’s why we need to make sure the only thing that goes in our yellow bins is the stuff that’s too good to waste. \n  \nWhat can be put in the Yellow bin? \nYES \n\nPaper and cardboard\nTins and cans\nPlastic containers marked with thes esymbols\, often embossed on bottom of item\nPlastic symbols 1\,2\,5\n\nNO \n\nGlass\nBatteries\nNappies\nDrink cartons / Tetrapak\nPolystyrene\, clothes hangers and toys\nSoft plastics\, cling film and strapping\n\nNote: Many of these non recyclable materials can be recycled through other channels – some options are listed here.
URL:https://eastbourne.nz/event/waste-collection-red-general-yellow-paper-plastics-green-organic-garden/2027-03-01/
CATEGORIES:Waste collection
ATTACH;FMTTYPE=image/png:https://eastbourne.nz/wp-content/uploads/2022/07/RECYCLING-RYG.png
END:VEVENT
BEGIN:VEVENT
DTSTART;VALUE=DATE:20270308
DTEND;VALUE=DATE:20270309
DTSTAMP:20260426T142431
CREATED:20220728T015426Z
LAST-MODIFIED:20220728T015426Z
UID:4680-1804464000-1804550399@eastbourne.nz
SUMMARY:Waste collection: Red (general) & Blue (glass)
DESCRIPTION:Non recyclable rubbish\nYour rubbish bin / ipupara \nThis is your wheelie bin with the red lid\, and it’s just for rubbish. \nWhen green waste goes to landfill it creates methane\, a greenhouse gas much more potent than carbon dioxide.\nInstead of putting it in your red bin\, consider composting or using our green waste collection.\nDid you know? I get collected weekly. \n  \nYour glass recycling crate / pouaka kara- he \nThis is your blue open-top crate\, which is just for glass \nYES \n\nGlass bottles\nGlass jars\n\nRemember: Rinse bottles and jars to make sure they’re clean. \nNO \n\nLids\nTableware and Pyrex\nBroken glass\nLight bulbs\nMirrors or window glass\n\nTip: One person’s waste is another’s treasure. Keep an eye out on noticeboards and social media for opportunities to save useable items from going to landfill.
URL:https://eastbourne.nz/event/waste-collection-red-general-and-blue-glass/2027-03-08/
CATEGORIES:Waste collection
ATTACH;FMTTYPE=image/png:https://eastbourne.nz/wp-content/uploads/2022/07/RECYCLING-RB.png
END:VEVENT
BEGIN:VEVENT
DTSTART;VALUE=DATE:20270315
DTEND;VALUE=DATE:20270316
DTSTAMP:20260426T142431
CREATED:20220728T021144Z
LAST-MODIFIED:20220728T021144Z
UID:4699-1805068800-1805155199@eastbourne.nz
SUMMARY:Waste collection: Red (general) & Yellow (paper/plastics/cans)
DESCRIPTION:Non recyclable rubbish\nYour rubbish bin / ipupara \nThis is your wheelie bin with the red lid\, and it’s just for rubbish. \nWhen green waste goes to landfill it creates methane\, a greenhouse gas much more potent than carbon dioxide.\nInstead of putting it in your red bin\, consider composting or using our green waste collection.\nDid you know? I get collected weekly. \n  \n  \nPaper & plastics\nYour recycling bin with the yellow lid / ipu hangarua \nThis is your wheelie bin with the yellow lid\, and it’s just for rubbish. \nI get collected on yellow weeks. When incorrect items end up in the wrong bin\, they contaminate the recycling / ipu hangarua\, which can mean the whole truckload ends up going to landfill. That’s why we need to make sure the only thing that goes in our yellow bins is the stuff that’s too good to waste. \n  \nWhat can be put in the Yellow bin? \nYES \n\nPaper and cardboard\nTins and cans\nPlastic containers marked with these symbols\, often embossed on bottom of item\nPlastic symbols 1\,2\,5\n\nNO \n\nGlass\nBatteries\nNappies\nDrink cartons / Tetrapak\nPolystyrene\, clothes hangers and toys\nSoft plastics\, cling film and strapping\n\nNote: Many of these non recyclable materials can be recycled through other channels – some options are listed here.
URL:https://eastbourne.nz/event/waste-collection-red-general-yellow-paper-plastics/2027-03-15/
CATEGORIES:Waste collection
ATTACH;FMTTYPE=image/png:https://eastbourne.nz/wp-content/uploads/2022/07/RECYCLING-RY.png
END:VEVENT
BEGIN:VEVENT
DTSTART;VALUE=DATE:20270322
DTEND;VALUE=DATE:20270323
DTSTAMP:20260426T142431
CREATED:20220728T015426Z
LAST-MODIFIED:20220728T015426Z
UID:4720-1805673600-1805759999@eastbourne.nz
SUMMARY:Waste collection: Red (general) & Blue (glass)
DESCRIPTION:Non recyclable rubbish\nYour rubbish bin / ipupara \nThis is your wheelie bin with the red lid\, and it’s just for rubbish. \nWhen green waste goes to landfill it creates methane\, a greenhouse gas much more potent than carbon dioxide.\nInstead of putting it in your red bin\, consider composting or using our green waste collection.\nDid you know? I get collected weekly. \n  \nYour glass recycling crate / pouaka kara- he \nThis is your blue open-top crate\, which is just for glass \nYES \n\nGlass bottles\nGlass jars\n\nRemember: Rinse bottles and jars to make sure they’re clean. \nNO \n\nLids\nTableware and Pyrex\nBroken glass\nLight bulbs\nMirrors or window glass\n\nTip: One person’s waste is another’s treasure. Keep an eye out on noticeboards and social media for opportunities to save useable items from going to landfill.
URL:https://eastbourne.nz/event/waste-collection-red-general-and-blue-glass/2027-03-22/
CATEGORIES:Waste collection
ATTACH;FMTTYPE=image/png:https://eastbourne.nz/wp-content/uploads/2022/07/RECYCLING-RB.png
END:VEVENT
BEGIN:VEVENT
DTSTART;TZID=Pacific/Auckland:20270327T080000
DTEND;TZID=Pacific/Auckland:20270327T113000
DTSTAMP:20260426T142431
CREATED:20221018T211317Z
LAST-MODIFIED:20260409T045847Z
UID:4746-1806134400-1806147000@eastbourne.nz
SUMMARY:Monthly Skip Bin (Eastbourne Lions)
DESCRIPTION:(Note\, no collection in December) \nSimple and affordable rubbish disposal is available monthly at our skip. We are trialling a new e-waste collection system over spring and summer. Payment in cash only.\nOpen on the last Saturday of each month\, from 8:00 am to 11:30 am. We’ll be there to help you unload! \nTypes of rubbish and charges are here. \nEmail: EastbourneLionsNZ@gmail.com
URL:https://eastbourne.nz/event/monthly-skip-bin-eastbourne-lions/2027-03-27/
LOCATION:Burdan’s Gate
CATEGORIES:Waste collection
ATTACH;FMTTYPE=image/png:https://eastbourne.nz/wp-content/uploads/2022/10/lionsbin.png
END:VEVENT
BEGIN:VEVENT
DTSTART;TZID=Pacific/Auckland:20270329T080000
DTEND;TZID=Pacific/Auckland:20270329T170000
DTSTAMP:20260426T142431
CREATED:20220728T021706Z
LAST-MODIFIED:20220728T021706Z
UID:4749-1806307200-1806339600@eastbourne.nz
SUMMARY:Waste collection - Red (general)\, Yellow (paper/plastics/cans) & Green (organic/garden)
DESCRIPTION:Your rubbish bin / ipupara \nThis is your wheelie bin with the red lid\, and it’s just for rubbish. \nWhen green waste goes to landfill it creates methane\, a greenhouse gas much more potent than carbon dioxide.\nInstead of putting it in your red bin\, consider composting or using our green waste collection.\nDid you know? I get collected weekly. \n  \nYour green (garden) waste bin / ipupara tupu \nYour green bin is for garden waste only. What can you put in this bin? \nYES \n\nGrass clippings\nPlant cuttings\nNO\nRubbish\nConcrete or stone\nNappies\nFood waste\n\nTip: If you don’t have a green waste bin\, or you have large quantities of green waste\, you can take it to the Silverstream transfer station. If you have compost waste\, here are some options. \n  \nYour recycling bin with the yellow lid / ipu hangarua \nThis is your wheelie bin with the yellow lid\, and it’s just for rubbish. \nI get collected on yellow weeks. When incorrect items end up in the wrong bin\, they contaminate the recycling / ipu hangarua\, which can mean the whole truckload ends up going to landfill. That’s why we need to make sure the only thing that goes in our yellow bins is the stuff that’s too good to waste. \n  \nWhat can be put in the Yellow bin? \nYES \n\nPaper and cardboard\nTins and cans\nPlastic containers marked with thes esymbols\, often embossed on bottom of item\nPlastic symbols 1\,2\,5\n\nNO \n\nGlass\nBatteries\nNappies\nDrink cartons / Tetrapak\nPolystyrene\, clothes hangers and toys\nSoft plastics\, cling film and strapping\n\nNote: Many of these non recyclable materials can be recycled through other channels – some options are listed here.
URL:https://eastbourne.nz/event/waste-collection-red-general-yellow-paper-plastics-green-organic-garden/2027-03-29/
CATEGORIES:Waste collection
ATTACH;FMTTYPE=image/png:https://eastbourne.nz/wp-content/uploads/2022/07/RECYCLING-RYG.png
END:VEVENT
BEGIN:VEVENT
DTSTART;TZID=Pacific/Auckland:20270404T030000
DTEND;TZID=Pacific/Auckland:20270404T040000
DTSTAMP:20260426T142431
CREATED:20260310T004242Z
LAST-MODIFIED:20260310T004242Z
UID:4686-1806807600-1806811200@eastbourne.nz
SUMMARY:Daylight Saving Ends
DESCRIPTION:Put clocks back 1 hour
URL:https://eastbourne.nz/event/daylight-saving-ends-3/
CATEGORIES:daylight saving
ATTACH;FMTTYPE=image/png:https://eastbourne.nz/wp-content/uploads/2022/09/daylightsavingends.png
END:VEVENT
BEGIN:VEVENT
DTSTART;VALUE=DATE:20270405
DTEND;VALUE=DATE:20270406
DTSTAMP:20260426T142431
CREATED:20220728T015426Z
LAST-MODIFIED:20220728T015426Z
UID:4763-1806883200-1806969599@eastbourne.nz
SUMMARY:Waste collection: Red (general) & Blue (glass)
DESCRIPTION:Non recyclable rubbish\nYour rubbish bin / ipupara \nThis is your wheelie bin with the red lid\, and it’s just for rubbish. \nWhen green waste goes to landfill it creates methane\, a greenhouse gas much more potent than carbon dioxide.\nInstead of putting it in your red bin\, consider composting or using our green waste collection.\nDid you know? I get collected weekly. \n  \nYour glass recycling crate / pouaka kara- he \nThis is your blue open-top crate\, which is just for glass \nYES \n\nGlass bottles\nGlass jars\n\nRemember: Rinse bottles and jars to make sure they’re clean. \nNO \n\nLids\nTableware and Pyrex\nBroken glass\nLight bulbs\nMirrors or window glass\n\nTip: One person’s waste is another’s treasure. Keep an eye out on noticeboards and social media for opportunities to save useable items from going to landfill.
URL:https://eastbourne.nz/event/waste-collection-red-general-and-blue-glass/2027-04-05/
CATEGORIES:Waste collection
ATTACH;FMTTYPE=image/png:https://eastbourne.nz/wp-content/uploads/2022/07/RECYCLING-RB.png
END:VEVENT
BEGIN:VEVENT
DTSTART;VALUE=DATE:20270412
DTEND;VALUE=DATE:20270413
DTSTAMP:20260426T142431
CREATED:20220728T021144Z
LAST-MODIFIED:20220728T021144Z
UID:4773-1807488000-1807574399@eastbourne.nz
SUMMARY:Waste collection: Red (general) & Yellow (paper/plastics/cans)
DESCRIPTION:Non recyclable rubbish\nYour rubbish bin / ipupara \nThis is your wheelie bin with the red lid\, and it’s just for rubbish. \nWhen green waste goes to landfill it creates methane\, a greenhouse gas much more potent than carbon dioxide.\nInstead of putting it in your red bin\, consider composting or using our green waste collection.\nDid you know? I get collected weekly. \n  \n  \nPaper & plastics\nYour recycling bin with the yellow lid / ipu hangarua \nThis is your wheelie bin with the yellow lid\, and it’s just for rubbish. \nI get collected on yellow weeks. When incorrect items end up in the wrong bin\, they contaminate the recycling / ipu hangarua\, which can mean the whole truckload ends up going to landfill. That’s why we need to make sure the only thing that goes in our yellow bins is the stuff that’s too good to waste. \n  \nWhat can be put in the Yellow bin? \nYES \n\nPaper and cardboard\nTins and cans\nPlastic containers marked with these symbols\, often embossed on bottom of item\nPlastic symbols 1\,2\,5\n\nNO \n\nGlass\nBatteries\nNappies\nDrink cartons / Tetrapak\nPolystyrene\, clothes hangers and toys\nSoft plastics\, cling film and strapping\n\nNote: Many of these non recyclable materials can be recycled through other channels – some options are listed here.
URL:https://eastbourne.nz/event/waste-collection-red-general-yellow-paper-plastics/2027-04-12/
CATEGORIES:Waste collection
ATTACH;FMTTYPE=image/png:https://eastbourne.nz/wp-content/uploads/2022/07/RECYCLING-RY.png
END:VEVENT
BEGIN:VEVENT
DTSTART;VALUE=DATE:20270419
DTEND;VALUE=DATE:20270420
DTSTAMP:20260426T142431
CREATED:20220728T015426Z
LAST-MODIFIED:20220728T015426Z
UID:4791-1808092800-1808179199@eastbourne.nz
SUMMARY:Waste collection: Red (general) & Blue (glass)
DESCRIPTION:Non recyclable rubbish\nYour rubbish bin / ipupara \nThis is your wheelie bin with the red lid\, and it’s just for rubbish. \nWhen green waste goes to landfill it creates methane\, a greenhouse gas much more potent than carbon dioxide.\nInstead of putting it in your red bin\, consider composting or using our green waste collection.\nDid you know? I get collected weekly. \n  \nYour glass recycling crate / pouaka kara- he \nThis is your blue open-top crate\, which is just for glass \nYES \n\nGlass bottles\nGlass jars\n\nRemember: Rinse bottles and jars to make sure they’re clean. \nNO \n\nLids\nTableware and Pyrex\nBroken glass\nLight bulbs\nMirrors or window glass\n\nTip: One person’s waste is another’s treasure. Keep an eye out on noticeboards and social media for opportunities to save useable items from going to landfill.
URL:https://eastbourne.nz/event/waste-collection-red-general-and-blue-glass/2027-04-19/
CATEGORIES:Waste collection
ATTACH;FMTTYPE=image/png:https://eastbourne.nz/wp-content/uploads/2022/07/RECYCLING-RB.png
END:VEVENT
BEGIN:VEVENT
DTSTART;TZID=Pacific/Auckland:20270424T080000
DTEND;TZID=Pacific/Auckland:20270424T113000
DTSTAMP:20260426T142431
CREATED:20221018T211317Z
LAST-MODIFIED:20221018T211317Z
UID:4808-1808553600-1808566200@eastbourne.nz
SUMMARY:Monthly Skip Bin (Eastbourne Lions)
DESCRIPTION:(Note\, no collection in December) \nSimple and affordable rubbish disposal is available monthly at our skip. We are trialling a new e-waste collection system over spring and summer. Payment in cash only.\nOpen on the last Saturday of each month\, from 8:00 am to 11:30 am. We’ll be there to help you unload! \nTypes of rubbish and charges are here. \nEmail: EastbourneLionsNZ@gmail.com
URL:https://eastbourne.nz/event/monthly-skip-bin-eastbourne-lions/2027-04-24/
LOCATION:Burdan’s Gate
CATEGORIES:Waste collection
ATTACH;FMTTYPE=image/png:https://eastbourne.nz/wp-content/uploads/2022/10/lionsbin.png
END:VEVENT
BEGIN:VEVENT
DTSTART;TZID=Pacific/Auckland:20270425T100000
DTEND;TZID=Pacific/Auckland:20270425T110000
DTSTAMP:20260426T142431
CREATED:20240128T212137Z
LAST-MODIFIED:20240128T212137Z
UID:4809-1808647200-1808650800@eastbourne.nz
SUMMARY:ANZAC Day
DESCRIPTION:EMRSA_ANZAC Day Service Sheet 2026 \nAnzac Day is usually commemorated by the Eastbourne Community at the war memorial adjacent to Muritai School\, followed by refreshments at the Eastbourne Sports and Services Club. \nAssembly at Ballinger Gardens\, Makaro Street from 9.30am – March to the Memorial Gates\, Muritai School. ANZAC Service commences at 10am. \nAnzac Day is observed on 25 April. It commemorates New Zealanders killed in war and honours returned and serving servicemen and women. \nAnzac Day dates\n1916 – Anzac Day gazetted as a half-day holiday \n1921 – Anzac Day becomes a full public holiday \n1939 – Dawn ceremony widely included in New Zealand Anzac Day commemorations for the first time \n1949 – Legislation passed preventing Anzac Day from being ‘Mondayised’ \n1966 – Current Anzac Day Act liberalises activities allowed after 1 p.m. on Anzac Day \n2013 – When 25 April falls on a Saturday or Sunday\, the Monday will now be a public holiday \n2020 – All Anzac Day public ceremonies in New Zealand cancelled because of COVID-19 coronavirus pandemic \nThe date marks the anniversary of the landing of Australian and New Zealand soldiers – the Anzacs – on the Gallipoli Peninsula in 1915. The aim was to capture the Dardanelles and open a sea route to the Bosphorus and the Black Sea. At the end of the campaign\, Gallipoli was still held by its Ottoman Turkish defenders. \nThousands lost their lives during the Gallipoli campaign: 87\,000 Ottoman Turks\, 44\,000 men from France and the British Empire\, including 8500 Australians. To this day\, Australia also marks the events of 25 April. Among the dead were 2779 New Zealanders\, about one in six of those who served on Gallipoli. \nThey may have ended in military defeat\, but for many New Zealanders then and since\, the Gallipoli landings signalled that New Zealand was becoming a distinct nation\, even as it fought on the other side of the world in the name of the British Empire. \nAnzac Day was first observed in 1916. The day has gone through many changes since. The ceremonies that are held at war memorials up and down New Zealand\, and in places overseas where New Zealanders gather\, are modelled on a military funeral and remain rich in tradition and ritual. \n(https://nzhistory.govt.nz/war/anzac-day/introduction)
URL:https://eastbourne.nz/event/anzac-day/2027-04-25/
LOCATION:Memorial Gates\, Muritai School\, 166 Muritai Road\, Eastbourne\, Lower Hutt 5013\, Lower Hutt\, Wellington\, New Zealand
CATEGORIES:Anniversary,ANZAC Day,Single
ORGANIZER;CN="Eastbourne Memorial RSA":MAILTO:Eastbournememorialrsa@gmail.com
END:VEVENT
END:VCALENDAR