BEGIN:VCALENDAR
VERSION:2.0
PRODID:-//Eastbourne NZ - ECPv6.15.20//NONSGML v1.0//EN
CALSCALE:GREGORIAN
METHOD:PUBLISH
X-ORIGINAL-URL:https://eastbourne.nz
X-WR-CALDESC:Events for Eastbourne NZ
REFRESH-INTERVAL;VALUE=DURATION:PT1H
X-Robots-Tag:noindex
X-PUBLISHED-TTL:PT1H
BEGIN:VTIMEZONE
TZID:Pacific/Auckland
BEGIN:STANDARD
TZOFFSETFROM:+1300
TZOFFSETTO:+1200
TZNAME:NZST
DTSTART:20220402T140000
END:STANDARD
BEGIN:DAYLIGHT
TZOFFSETFROM:+1200
TZOFFSETTO:+1300
TZNAME:NZDT
DTSTART:20220924T140000
END:DAYLIGHT
BEGIN:STANDARD
TZOFFSETFROM:+1300
TZOFFSETTO:+1200
TZNAME:NZST
DTSTART:20230401T140000
END:STANDARD
BEGIN:DAYLIGHT
TZOFFSETFROM:+1200
TZOFFSETTO:+1300
TZNAME:NZDT
DTSTART:20230923T140000
END:DAYLIGHT
BEGIN:STANDARD
TZOFFSETFROM:+1300
TZOFFSETTO:+1200
TZNAME:NZST
DTSTART:20240406T140000
END:STANDARD
BEGIN:DAYLIGHT
TZOFFSETFROM:+1200
TZOFFSETTO:+1300
TZNAME:NZDT
DTSTART:20240928T140000
END:DAYLIGHT
END:VTIMEZONE
BEGIN:VEVENT
DTSTART;TZID=Pacific/Auckland:20230716T090000
DTEND;TZID=Pacific/Auckland:20230716T150000
DTSTAMP:20260423T144039
CREATED:20230616T033716Z
LAST-MODIFIED:20230616T033716Z
UID:2183-1689498000-1689519600@eastbourne.nz
SUMMARY:Roto Parangarahu Community Planting Day
DESCRIPTION:Did you know there are two nationally significant and breath-taking lakes hidden in East Harbour Regional Park?\n\n\nThese lakes are particularly important to the surrounding environment and are home to native taonga. This includes a range of wetland plants\, īnanga (galaxias maculatus)\, manu (birds)\, and our native freshwater mussel\, the kākahi. \nJoin us for a day of planting mingimingi\, ake ake\, and other native species along the top of Cameron Ridge with spectacular views over Roto Kohangatera and the South Island. With Pencarrow Lighthouse and Roto Parangarahu nearby\, you’ll enjoy a day planting and exploring this beautiful area of the park. \nThis planting day is suitable for people with a medium level of fitness as you will need to carry plants and dig holes. The area being planted is a short 20-minute walk from the bus up to the planting area. This is not suitable for children and recommended for 13 years and above. There will be a toilet provided during the planting. No dogs are allowed in this park. Register using link below. \nhttps://www.gw.govt.nz/your-region/events-and-meetings/roto-parangarahu-community-planting-day/https://www.gw.govt.nz/your-region/events-and-meetings/roto-parangarahu-community-planting-day/
URL:https://eastbourne.nz/event/roto-parangarahu-community-planting-day/
CATEGORIES:GWRC,Single
ATTACH;FMTTYPE=image/png:https://eastbourne.nz/wp-content/uploads/Icons/GWRClogo.png
END:VEVENT
END:VCALENDAR