BEGIN:VCALENDAR
VERSION:2.0
PRODID:-//Eastbourne NZ - ECPv6.15.20//NONSGML v1.0//EN
CALSCALE:GREGORIAN
METHOD:PUBLISH
X-ORIGINAL-URL:https://eastbourne.nz
X-WR-CALDESC:Events for Eastbourne NZ
REFRESH-INTERVAL;VALUE=DURATION:PT1H
X-Robots-Tag:noindex
X-PUBLISHED-TTL:PT1H
BEGIN:VTIMEZONE
TZID:Pacific/Auckland
BEGIN:STANDARD
TZOFFSETFROM:+1300
TZOFFSETTO:+1200
TZNAME:NZST
DTSTART:20220402T140000
END:STANDARD
BEGIN:DAYLIGHT
TZOFFSETFROM:+1200
TZOFFSETTO:+1300
TZNAME:NZDT
DTSTART:20220924T140000
END:DAYLIGHT
BEGIN:STANDARD
TZOFFSETFROM:+1300
TZOFFSETTO:+1200
TZNAME:NZST
DTSTART:20230401T140000
END:STANDARD
BEGIN:DAYLIGHT
TZOFFSETFROM:+1200
TZOFFSETTO:+1300
TZNAME:NZDT
DTSTART:20230923T140000
END:DAYLIGHT
BEGIN:STANDARD
TZOFFSETFROM:+1300
TZOFFSETTO:+1200
TZNAME:NZST
DTSTART:20240406T140000
END:STANDARD
BEGIN:DAYLIGHT
TZOFFSETFROM:+1200
TZOFFSETTO:+1300
TZNAME:NZDT
DTSTART:20240928T140000
END:DAYLIGHT
END:VTIMEZONE
BEGIN:VEVENT
DTSTART;TZID=Pacific/Auckland:20230312T070000
DTEND;TZID=Pacific/Auckland:20230312T180000
DTSTAMP:20260421T212734
CREATED:20230109T075653Z
LAST-MODIFIED:20230109T075653Z
UID:1898-1678604400-1678644000@eastbourne.nz
SUMMARY:Port Road Drags (rescheduled)
DESCRIPTION:Due to horrific weather in November we are planning to run our event on March 12 2023 \, hoping we have a clear day.It is a requirement for us to advise our intentions for a one day event located at Port Road Seaview Lower Hutt this coming March .We are working hard with the HCC and is our intentions to bring as little disruptions to the area during this time.With huge interest in this event we endeavour to bring a first class event to the Wellington Region.Sunday 12 March  2023 7am to 6pm.Noise complaints\, reports of dangerous driving or any other illegal activities outside our road closure hours and cordon (during the event)  should be reported to the HCC Noise control or/and the Police.We are aware of recent and regular activity in the area\, this has nothing to do with our event.Please don’t hesitate to contact me with any questions or queries. I will do my best to answer ASAP.RegardsSTEVE REID (JOCK) |  PARTS MANAGER45 PERCY CAMERON STREET\,AVALON\,LOWER HUTT\,WELLINGTON.NEW ZEALANDJOCK@CENTRALGROUP.CO.NZ
URL:https://eastbourne.nz/event/port-road-drags-rescheduled/
LOCATION:Port Road\, Port Road\, Seaview\, Lower Hutt\, Wellington\, 5010\, New Zealand
CATEGORIES:competition
ORGANIZER;CN="Port Road Drags":MAILTO:admin@portroad.co.nz
END:VEVENT
END:VCALENDAR